BEGIN:VCALENDAR
VERSION:2.0
PRODID:-//TeamWWF - ECPv6.15.20//NONSGML v1.0//EN
CALSCALE:GREGORIAN
METHOD:PUBLISH
X-WR-CALNAME:TeamWWF
X-ORIGINAL-URL:https://www.teamwwf.org
X-WR-CALDESC:Events for TeamWWF
REFRESH-INTERVAL;VALUE=DURATION:PT1H
X-Robots-Tag:noindex
X-PUBLISHED-TTL:PT1H
BEGIN:VTIMEZONE
TZID:America/Indiana/Indianapolis
BEGIN:DAYLIGHT
TZOFFSETFROM:-0500
TZOFFSETTO:-0400
TZNAME:EDT
DTSTART:20250309T070000
END:DAYLIGHT
BEGIN:STANDARD
TZOFFSETFROM:-0400
TZOFFSETTO:-0500
TZNAME:EST
DTSTART:20251102T060000
END:STANDARD
BEGIN:DAYLIGHT
TZOFFSETFROM:-0500
TZOFFSETTO:-0400
TZNAME:EDT
DTSTART:20260308T070000
END:DAYLIGHT
BEGIN:STANDARD
TZOFFSETFROM:-0400
TZOFFSETTO:-0500
TZNAME:EST
DTSTART:20261101T060000
END:STANDARD
BEGIN:DAYLIGHT
TZOFFSETFROM:-0500
TZOFFSETTO:-0400
TZNAME:EDT
DTSTART:20270314T070000
END:DAYLIGHT
BEGIN:STANDARD
TZOFFSETFROM:-0400
TZOFFSETTO:-0500
TZNAME:EST
DTSTART:20271107T060000
END:STANDARD
END:VTIMEZONE
BEGIN:VEVENT
DTSTART;VALUE=DATE:20260515
DTEND;VALUE=DATE:20260516
DTSTAMP:20260424T195915
CREATED:20251108T033100Z
LAST-MODIFIED:20251219T040630Z
UID:13068-1778803200-1778889599@www.teamwwf.org
SUMMARY:Fast Friday
DESCRIPTION:“Fast Friday” at the Indianapolis Motor Speedway (IMS) is the final full practice day before the Indianapolis 500 qualifying\, where teams and drivers push their cars to their maximum speed potential. The name originates from the surge of power and speed achieved as teams adjust their cars to mimic qualifying conditions\, enabling them to reach speeds exceeding 240 mph. It is a crucial day for teams to fine-tune their cars for qualifying and a popular event for fans to witness the high speeds and intense competition.								\n				\n					\n				\n				\n						\n					\n			\n						\n				\n					\n	« All Events\n 				\n				\n				\n				\n					\n	\n		\n			\n			\n\n			\n	\n			\n\n\n			\n	\n		Fast Friday	\n\n\n			\n	\n		DD\n		\n			days		\n	\n	\n		HH\n		\n			hours		\n	\n	\n		MM\n		\n			mins		\n	\n	\n\n			\n	Hooray! \n		\n	\n\n				\n				\n				\n				\n					\n	Fast Friday				\n				\n				\n				\n					\n		\n			May 15\n\n		\n\n\n	\n				\n				\n				\n				\n					\n	\n				\n				\n				\n				\n																\n															\n															\n				\n				\n				\n					Turn 2 VIP Suite Tickets Available for This Event				\n				\n				\n				\n																														\n				\n				\n						\n					\n			\n						\n				\n					\n	\n	Tags:	\n		\n	2026\,\n\n	Indianapolis Motor Speedway\,\n\n	Turn 2 Suite\n	\n\n				\n				\n					\n		\n				\n			\n							\n		\n					\n		\n				\n						\n					\n			\n						\n				\n					\n				\n				\n	\n			\n		Indianapolis Motor Speedway			\n	\n	\n	Address:\n	\n\n4790 W 16th St.\n	\n		\n		Indianapolis\,\n\n	IN\n\n	46222\n\n	United States\n\n\n\n\n	+ Google Map \n\n\n	\n	Phone:\n					\n						\n	 \n\n\n	\n	Website:\n	View Venue Website \n\n\n\n	\n\n		\n			\n				\n	\n			\n		Turn 2 Suite			\n	\n	\n	Address:\n	\n\n4790 West 16th Street\n	\n		\n		Indianapolis\,\n\n	IN\n\n	46222\n\n	United States\n\n\n\n\n	+ Google Map \n\n\n	\n	Phone:\n					\n						\n	 \n\n\n	\n	Website:\n	View Venue Website \n\n\n\n	\n\n		\n	\n				\n				\n					\n		\n					\n		\n				\n						\n					\n			\n						\n				\n					\n	\n		\n\n	\n	Add to calendar	\n		\n	\n\n		\n			\n									\n	Google Calendar\n\n									\n	iCalendar\n\n									\n	Outlook 365\n\n									\n	Outlook Live\n\n							\n		\n\n		\n	\n\n				\n				\n					\n		\n					\n		\n				\n						\n					\n			\n						\n				\n					\n	\n		\n\n				FR Americas Test Day at Road America	\n\n\n		\n	\n		Qualifying Weekend
URL:https://www.teamwwf.org/event/fast-friday/
LOCATION:Indianapolis Motor Speedway\, 4790 W 16th St.\, Indianapolis\, IN\, 46222\, United States
ATTACH;FMTTYPE=image/png:https://www.teamwwf.org/wp-content/uploads/2022/02/Wings-Wheels-Logo-Black-500.png
GEO:39.7881197;-86.2386635
X-APPLE-STRUCTURED-LOCATION;VALUE=URI;X-ADDRESS=Indianapolis Motor Speedway 4790 W 16th St. Indianapolis IN 46222 United States;X-APPLE-RADIUS=500;X-TITLE=4790 W 16th St.:geo:-86.2386635,39.7881197
END:VEVENT
END:VCALENDAR