BEGIN:VCALENDAR
VERSION:2.0
PRODID:-//TeamWWF - ECPv6.15.20//NONSGML v1.0//EN
CALSCALE:GREGORIAN
METHOD:PUBLISH
X-WR-CALNAME:TeamWWF
X-ORIGINAL-URL:https://www.teamwwf.org
X-WR-CALDESC:Events for TeamWWF
REFRESH-INTERVAL;VALUE=DURATION:PT1H
X-Robots-Tag:noindex
X-PUBLISHED-TTL:PT1H
BEGIN:VTIMEZONE
TZID:America/Indiana/Indianapolis
BEGIN:DAYLIGHT
TZOFFSETFROM:-0500
TZOFFSETTO:-0400
TZNAME:EDT
DTSTART:20240310T070000
END:DAYLIGHT
BEGIN:STANDARD
TZOFFSETFROM:-0400
TZOFFSETTO:-0500
TZNAME:EST
DTSTART:20241103T060000
END:STANDARD
BEGIN:DAYLIGHT
TZOFFSETFROM:-0500
TZOFFSETTO:-0400
TZNAME:EDT
DTSTART:20250309T070000
END:DAYLIGHT
BEGIN:STANDARD
TZOFFSETFROM:-0400
TZOFFSETTO:-0500
TZNAME:EST
DTSTART:20251102T060000
END:STANDARD
BEGIN:DAYLIGHT
TZOFFSETFROM:-0500
TZOFFSETTO:-0400
TZNAME:EDT
DTSTART:20260308T070000
END:DAYLIGHT
BEGIN:STANDARD
TZOFFSETFROM:-0400
TZOFFSETTO:-0500
TZNAME:EST
DTSTART:20261101T060000
END:STANDARD
END:VTIMEZONE
BEGIN:VEVENT
DTSTART;TZID=America/Indiana/Indianapolis:20251016T120000
DTEND;TZID=America/Indiana/Indianapolis:20251016T200000
DTSTAMP:20260424T202005
CREATED:20251008T032318Z
LAST-MODIFIED:20251230T220126Z
UID:12533-1760616000-1760644800@www.teamwwf.org
SUMMARY:Indianapolis 8 Hour
DESCRIPTION:The final event of 2025 at the Indianapolis Motor Speedway — the Indianapolis 8 Hour — is live Oct. 16-18.								\n				\n				\n				\n									The eight-hour endurance sports car race\, which starts at noon (ET) Saturday\, will feature two series racing simultaneously on the 14-turn\, 2.439-mile road course at IMS & the Intercontinental GT Challenge and the GT World Challenge America Powered by AWS. Cars are expected to compete into the dusk\, a unique sight for fans at the Racing Capital of the World.  								\n				\n					\n				\n				\n						\n					\n			\n						\n				\n					\n	« All Events\n 				\n				\n				\n				\n					This event has passed. \n				\n				\n				\n				\n					\n	Indianapolis 8 Hour				\n				\n				\n				\n					\n		\n			October 16\n\n	\n\n	  @  \n\n\n12:00 PM\n\n		\n\n\n\n	\n	  -  \n\n8:00 PM\n\n\n\n	\n				\n				\n				\n				\n					\n	\n				\n				\n				\n						\n					\n			\n						\n				\n					\n	\n	Tags:	\n		\n	2025\,\n\n	Event\,\n\n	Indianapolis Motor Speedway\n	\n\n				\n				\n					\n		\n				\n			\n						\n				\n					\n	\n			\n			Indianapolis Motor Speedway			\n	\n\n	\n	\n\n	Phone:\n					\n						\n	 \n\n\n	\n\n	Website:View Organizer Website \n\n\n	\n	Email:\n					\n						\n	 \n\n\n\n				\n				\n					\n		\n					\n		\n				\n						\n					\n			\n						\n				\n					\n				\n				\n	\n			\n		Turn 2 Suite			\n	\n	\n	Address:\n	\n\n4790 West 16th Street\n	\n		\n		Indianapolis\,\n\n	IN\n\n	46222\n\n	United States\n\n\n\n\n	+ Google Map \n\n\n	\n	Phone:\n					\n						\n	 \n\n\n	\n	Website:\n	View Venue Website \n\n\n\n	\n\n		\n	\n				\n				\n					\n		\n					\n		\n				\n						\n					\n			\n						\n				\n					\n	\n		\n\n	\n	Add to calendar	\n		\n	\n\n		\n			\n									\n	Google Calendar\n\n									\n	iCalendar\n\n									\n	Outlook 365\n\n									\n	Outlook Live\n\n							\n		\n\n		\n	\n\n				\n				\n					\n		\n					\n		\n				\n						\n					\n			\n						\n				\n					\n	\n		\n\n				Aaron Jeansonne at Road Atlanta with Carrera Cup	\n\n\n		\n	\n		Aaron Jeansonne at Circuit of the Americas with Carrera Cup
URL:https://www.teamwwf.org/event/indianapolis-8-hour/
LOCATION:Turn 2 Suite\, 4790 West 16th Street\, Indianapolis\, IN\, 46222\, United States
ATTACH;FMTTYPE=image/jpeg:https://www.teamwwf.org/wp-content/uploads/2025/10/indy_8_hour.jpg
GEO:39.7881197;-86.2386635
X-APPLE-STRUCTURED-LOCATION;VALUE=URI;X-ADDRESS=Turn 2 Suite 4790 West 16th Street Indianapolis IN 46222 United States;X-APPLE-RADIUS=500;X-TITLE=4790 West 16th Street:geo:-86.2386635,39.7881197
END:VEVENT
END:VCALENDAR