BEGIN:VCALENDAR
VERSION:2.0
PRODID:-//TeamWWF - ECPv6.15.20//NONSGML v1.0//EN
CALSCALE:GREGORIAN
METHOD:PUBLISH
X-WR-CALNAME:TeamWWF
X-ORIGINAL-URL:https://www.teamwwf.org
X-WR-CALDESC:Events for TeamWWF
REFRESH-INTERVAL;VALUE=DURATION:PT1H
X-Robots-Tag:noindex
X-PUBLISHED-TTL:PT1H
BEGIN:VTIMEZONE
TZID:America/Indiana/Indianapolis
BEGIN:DAYLIGHT
TZOFFSETFROM:-0500
TZOFFSETTO:-0400
TZNAME:EDT
DTSTART:20250309T070000
END:DAYLIGHT
BEGIN:STANDARD
TZOFFSETFROM:-0400
TZOFFSETTO:-0500
TZNAME:EST
DTSTART:20251102T060000
END:STANDARD
BEGIN:DAYLIGHT
TZOFFSETFROM:-0500
TZOFFSETTO:-0400
TZNAME:EDT
DTSTART:20260308T070000
END:DAYLIGHT
BEGIN:STANDARD
TZOFFSETFROM:-0400
TZOFFSETTO:-0500
TZNAME:EST
DTSTART:20261101T060000
END:STANDARD
BEGIN:DAYLIGHT
TZOFFSETFROM:-0500
TZOFFSETTO:-0400
TZNAME:EDT
DTSTART:20270314T070000
END:DAYLIGHT
BEGIN:STANDARD
TZOFFSETFROM:-0400
TZOFFSETTO:-0500
TZNAME:EST
DTSTART:20271107T060000
END:STANDARD
END:VTIMEZONE
BEGIN:VEVENT
DTSTART;VALUE=DATE:20260512
DTEND;VALUE=DATE:20260516
DTSTAMP:20260424T183850
CREATED:20251108T062807Z
LAST-MODIFIED:20251219T040558Z
UID:13076-1778544000-1778889599@www.teamwwf.org
SUMMARY:Indy 500 Practice
DESCRIPTION:« All Events\n 				\n				\n				\n				\n					\n	\n		\n			\n			\n\n			\n	\n			\n\n\n			\n	\n		Indy 500 Practice	\n\n\n			\n	\n		DD\n		\n			days		\n	\n	\n		HH\n		\n			hours		\n	\n	\n		MM\n		\n			mins		\n	\n	\n\n			\n	Hooray! \n		\n	\n\n				\n				\n				\n				\n					\n	Indy 500 Practice				\n				\n				\n				\n					\n		\n			May 12\n\n		\n	\n	  -  \n\n	May 15\n\n	\n				\n				\n				\n				\n					\n$100.00 				\n				\n				\n				\n					\n	\n				\n				\n				\n				\n																\n															\n															\n				\n				\n				\n					Turn 2 VIP Suite Tickets Available for This Event				\n				\n				\n				\n																														\n				\n				\n						\n					\n			\n						\n				\n					\n	\n	Tags:	\n		\n	2026\,\n\n	Indianapolis Motor Speedway\,\n\n	Turn 2 Suite\n	\n\n				\n				\n					\n		\n				\n			\n						\n				\n					\n	\n			\n			Wings And Wheels Foudation			\n	\n\n	\n	\n\n	Phone:\n					\n						\n	 \n\n\n	\n\n	Website:View Organizer Website \n\n\n	\n	Email:\n					\n			director@teamWWF.com			\n	 \n\n\n\n				\n				\n					\n		\n					\n		\n				\n						\n					\n			\n						\n				\n					\n				\n				\n	\n			\n		Indianapolis Motor Speedway			\n	\n	\n	Address:\n	\n\n4790 W 16th St.\n	\n		\n		Indianapolis\,\n\n	IN\n\n	46222\n\n	United States\n\n\n\n\n	+ Google Map \n\n\n	\n	Phone:\n					\n						\n	 \n\n\n	\n	Website:\n	View Venue Website \n\n\n\n	\n\n		\n			\n				\n	\n			\n		Turn 2 Suite			\n	\n	\n	Address:\n	\n\n4790 West 16th Street\n	\n		\n		Indianapolis\,\n\n	IN\n\n	46222\n\n	United States\n\n\n\n\n	+ Google Map \n\n\n	\n	Phone:\n					\n						\n	 \n\n\n	\n	Website:\n	View Venue Website \n\n\n\n	\n\n		\n	\n				\n				\n					\n		\n					\n		\n				\n						\n					\n			\n						\n				\n					\n	\n		\n\n	\n	Add to calendar	\n		\n	\n\n		\n			\n									\n	Google Calendar\n\n									\n	iCalendar\n\n									\n	Outlook 365\n\n									\n	Outlook Live\n\n							\n		\n\n		\n	\n\n				\n				\n					\n		\n					\n		\n				\n						\n					\n			\n						\n				\n					\n	\n		\n\n				Kickoff to May - TeamWWF Silent Auction	\n\n\n		\n	\n		FR Americas Test Day at Road America
URL:https://www.teamwwf.org/event/indy-500-practice/
LOCATION:Indianapolis Motor Speedway\, 4790 W 16th St.\, Indianapolis\, IN\, 46222\, United States
ATTACH;FMTTYPE=image/jpeg:https://www.teamwwf.org/wp-content/uploads/2025/11/110th-INDY-500-logo.jpg
ORGANIZER;CN="Wings And Wheels Foudation":MAILTO:director@teamWWF.com
GEO:39.7881197;-86.2386635
X-APPLE-STRUCTURED-LOCATION;VALUE=URI;X-ADDRESS=Indianapolis Motor Speedway 4790 W 16th St. Indianapolis IN 46222 United States;X-APPLE-RADIUS=500;X-TITLE=4790 W 16th St.:geo:-86.2386635,39.7881197
END:VEVENT
END:VCALENDAR