BEGIN:VCALENDAR
VERSION:2.0
PRODID:-//TeamWWF - ECPv6.15.20//NONSGML v1.0//EN
CALSCALE:GREGORIAN
METHOD:PUBLISH
X-WR-CALNAME:TeamWWF
X-ORIGINAL-URL:https://www.teamwwf.org
X-WR-CALDESC:Events for TeamWWF
REFRESH-INTERVAL;VALUE=DURATION:PT1H
X-Robots-Tag:noindex
X-PUBLISHED-TTL:PT1H
BEGIN:VTIMEZONE
TZID:America/Indiana/Indianapolis
BEGIN:DAYLIGHT
TZOFFSETFROM:-0500
TZOFFSETTO:-0400
TZNAME:EDT
DTSTART:20240310T070000
END:DAYLIGHT
BEGIN:STANDARD
TZOFFSETFROM:-0400
TZOFFSETTO:-0500
TZNAME:EST
DTSTART:20241103T060000
END:STANDARD
BEGIN:DAYLIGHT
TZOFFSETFROM:-0500
TZOFFSETTO:-0400
TZNAME:EDT
DTSTART:20250309T070000
END:DAYLIGHT
BEGIN:STANDARD
TZOFFSETFROM:-0400
TZOFFSETTO:-0500
TZNAME:EST
DTSTART:20251102T060000
END:STANDARD
BEGIN:DAYLIGHT
TZOFFSETFROM:-0500
TZOFFSETTO:-0400
TZNAME:EDT
DTSTART:20260308T070000
END:DAYLIGHT
BEGIN:STANDARD
TZOFFSETFROM:-0400
TZOFFSETTO:-0500
TZNAME:EST
DTSTART:20261101T060000
END:STANDARD
END:VTIMEZONE
BEGIN:VEVENT
DTSTART;VALUE=DATE:20251027
DTEND;VALUE=DATE:20251028
DTSTAMP:20260424T234049
CREATED:20251006T140016Z
LAST-MODIFIED:20251007T151528Z
UID:12406-1761523200-1761609599@www.teamwwf.org
SUMMARY:Indy NXT Test
DESCRIPTION:TURN 2 VIP SUITE SPACE RENTAL\n\nElevate your next meeting\, event\, or team day with a premium suite experience overlooking the iconic Indianapolis Motor Speedway.\n\nTurn 2 Suite\n\n\n\n\n								\n				\n					\n				\n				\n						\n					\n			\n						\n				\n					\n	« All Events\n 				\n				\n				\n				\n					This event has passed. \n				\n				\n				\n				\n									TURN 2 VIP SUITE SPACE RENTAL // Elevate your next meeting\, event\, or team day with a premium suite experience overlooking the iconic Indianapolis Motor Speedway. 								\n				\n				\n				\n					\n	Indy NXT Test				\n				\n				\n				\n					\n		\n			October 27\n\n		\n\n\n	\n				\n				\n				\n				\n					\n	\n				\n				\n				\n						\n					\n			\n						\n				\n					\n	\n\n	Categories:	\n		Indy NXT	\n\n				\n				\n				\n				\n					\n	\n	Tags:	\n		\n	2025\,\n\n	Turn 2 Suite\n	\n\n				\n				\n				\n				\n					\n	\n	Website:	\n	https://www.teamwwf.org/about-us/turn-2-suite/\n\n				\n				\n					\n		\n				\n			\n						\n				\n					\n	\n			\n			Wings And Wheels Foudation			\n	\n\n	\n	\n\n	Phone:\n					\n						\n	 \n\n\n	\n\n	Website:View Organizer Website \n\n\n	\n	Email:\n					\n			director@teamWWF.com			\n	 \n\n\n\n				\n				\n					\n		\n					\n		\n				\n						\n					\n			\n						\n				\n					\n				\n				\n	\n			\n		Turn 2 Suite			\n	\n	\n	Address:\n	\n\n4790 West 16th Street\n	\n		\n		Indianapolis\,\n\n	IN\n\n	46222\n\n	United States\n\n\n\n\n	+ Google Map \n\n\n	\n	Phone:\n					\n						\n	 \n\n\n	\n	Website:\n	View Venue Website \n\n\n\n	\n\n		\n	\n				\n				\n					\n		\n					\n		\n				\n						\n					\n			\n						\n				\n					\n	\n		\n\n	\n	Add to calendar	\n		\n	\n\n		\n			\n									\n	Google Calendar\n\n									\n	iCalendar\n\n									\n	Outlook 365\n\n									\n	Outlook Live\n\n							\n		\n\n		\n	\n\n				\n				\n					\n		\n					\n		\n				\n						\n					\n			\n						\n				\n					\n	\n		\n\n				GT Testing	\n\n\n		\n	\n		SCCA Super Tour
URL:https://www.teamwwf.org/event/indy-nxt-test/
LOCATION:Turn 2 Suite\, 4790 West 16th Street\, Indianapolis\, IN\, 46222\, United States
CATEGORIES:Indy NXT
ATTACH;FMTTYPE=image/jpeg:https://www.teamwwf.org/wp-content/uploads/2025/10/Turn-2-Suite-Space-Rental.jpg
ORGANIZER;CN="Wings And Wheels Foudation":MAILTO:director@teamWWF.com
GEO:39.7881197;-86.2386635
X-APPLE-STRUCTURED-LOCATION;VALUE=URI;X-ADDRESS=Turn 2 Suite 4790 West 16th Street Indianapolis IN 46222 United States;X-APPLE-RADIUS=500;X-TITLE=4790 West 16th Street:geo:-86.2386635,39.7881197
END:VEVENT
END:VCALENDAR