BEGIN:VCALENDAR
VERSION:2.0
PRODID:-//TeamWWF - ECPv6.15.20//NONSGML v1.0//EN
CALSCALE:GREGORIAN
METHOD:PUBLISH
X-WR-CALNAME:TeamWWF
X-ORIGINAL-URL:https://www.teamwwf.org
X-WR-CALDESC:Events for TeamWWF
REFRESH-INTERVAL;VALUE=DURATION:PT1H
X-Robots-Tag:noindex
X-PUBLISHED-TTL:PT1H
BEGIN:VTIMEZONE
TZID:America/Indiana/Indianapolis
BEGIN:DAYLIGHT
TZOFFSETFROM:-0500
TZOFFSETTO:-0400
TZNAME:EDT
DTSTART:20240310T070000
END:DAYLIGHT
BEGIN:STANDARD
TZOFFSETFROM:-0400
TZOFFSETTO:-0500
TZNAME:EST
DTSTART:20241103T060000
END:STANDARD
BEGIN:DAYLIGHT
TZOFFSETFROM:-0500
TZOFFSETTO:-0400
TZNAME:EDT
DTSTART:20250309T070000
END:DAYLIGHT
BEGIN:STANDARD
TZOFFSETFROM:-0400
TZOFFSETTO:-0500
TZNAME:EST
DTSTART:20251102T060000
END:STANDARD
BEGIN:DAYLIGHT
TZOFFSETFROM:-0500
TZOFFSETTO:-0400
TZNAME:EDT
DTSTART:20260308T070000
END:DAYLIGHT
BEGIN:STANDARD
TZOFFSETFROM:-0400
TZOFFSETTO:-0500
TZNAME:EST
DTSTART:20261101T060000
END:STANDARD
END:VTIMEZONE
BEGIN:VEVENT
DTSTART;VALUE=DATE:20251008
DTEND;VALUE=DATE:20251011
DTSTAMP:20260424T202246
CREATED:20250912T001812Z
LAST-MODIFIED:20250912T023150Z
UID:11939-1759881600-1760140799@www.teamwwf.org
SUMMARY:Nathan Nicholson at Road Atlanta with Mazda MX-5 Cup
DESCRIPTION:« All Events\n 				\n				\n				\n				\n					This event has passed. \n				\n				\n				\n				\n					\n	Nathan Nicholson at Road Atlanta with Mazda MX-5 Cup				\n				\n				\n				\n					\n		\n			October 8\n\n		\n	\n	  -  \n\n	October 10\n\n	\n				\n				\n				\n				\n					\n	\n				\n				\n				\n						\n					\n			\n						\n				\n					\n	\n\n	Categories:	\n		Mazda MX-5 Cup	\n\n				\n				\n				\n				\n					\n	\n	Tags:	\n		\n	2025\,\n\n	Mazda MX-5 Cup\,\n\n	Nathan Nicholson\,\n\n	Road America\n	\n\n				\n				\n					\n		\n				\n			\n							\n		\n					\n		\n				\n						\n					\n			\n						\n				\n					\n				\n				\n	\n			\n		Michelin Raceway Road Atlanta			\n	\n	\n	Address:\n	\n\n5300 Winder Hwy\n	\n		\n		Braselton\,\n\n	GA\n\n	30517\n\n	United States\n\n\n\n\n	+ Google Map \n\n\n	\n	Phone:\n					\n						\n	 \n\n\n	\n	Website:\n	View Venue Website \n\n\n\n	\n\n		\n	\n				\n				\n					\n		\n					\n		\n				\n						\n					\n			\n						\n				\n					\n	\n		\n\n	\n	Add to calendar	\n		\n	\n\n		\n			\n									\n	Google Calendar\n\n									\n	iCalendar\n\n									\n	Outlook 365\n\n									\n	Outlook Live\n\n							\n		\n\n		\n	\n\n				\n				\n					\n		\n					\n		\n				\n						\n					\n			\n						\n				\n					\n	\n		\n\n				Jason Pribyl at Donington Park with GB4 Championship	\n\n\n		\n	\n		Indianapolis 8 Hour
URL:https://www.teamwwf.org/event/nathan-nicholson-at-road-atlanta-with-mazda-mx-5-cup/
LOCATION:Michelin Raceway Road Atlanta\, 5300 Winder Hwy\, Braselton\, GA\, 30517\, United States
CATEGORIES:Mazda MX-5 Cup
ATTACH;FMTTYPE=image/jpeg:https://www.teamwwf.org/wp-content/uploads/2025/08/Givebutter-Givebutter-Nathan-Nicholson-2025-1200x630-3.jpg
GEO:34.1522045;-83.8151161
X-APPLE-STRUCTURED-LOCATION;VALUE=URI;X-ADDRESS=Michelin Raceway Road Atlanta 5300 Winder Hwy Braselton GA 30517 United States;X-APPLE-RADIUS=500;X-TITLE=5300 Winder Hwy:geo:-83.8151161,34.1522045
END:VEVENT
END:VCALENDAR