BEGIN:VCALENDAR
VERSION:2.0
PRODID:-//TeamWWF - ECPv6.15.20//NONSGML v1.0//EN
CALSCALE:GREGORIAN
METHOD:PUBLISH
X-WR-CALNAME:TeamWWF
X-ORIGINAL-URL:https://www.teamwwf.org
X-WR-CALDESC:Events for TeamWWF
REFRESH-INTERVAL;VALUE=DURATION:PT1H
X-Robots-Tag:noindex
X-PUBLISHED-TTL:PT1H
BEGIN:VTIMEZONE
TZID:America/Indiana/Indianapolis
BEGIN:DAYLIGHT
TZOFFSETFROM:-0500
TZOFFSETTO:-0400
TZNAME:EDT
DTSTART:20240310T070000
END:DAYLIGHT
BEGIN:STANDARD
TZOFFSETFROM:-0400
TZOFFSETTO:-0500
TZNAME:EST
DTSTART:20241103T060000
END:STANDARD
BEGIN:DAYLIGHT
TZOFFSETFROM:-0500
TZOFFSETTO:-0400
TZNAME:EDT
DTSTART:20250309T070000
END:DAYLIGHT
BEGIN:STANDARD
TZOFFSETFROM:-0400
TZOFFSETTO:-0500
TZNAME:EST
DTSTART:20251102T060000
END:STANDARD
BEGIN:DAYLIGHT
TZOFFSETFROM:-0500
TZOFFSETTO:-0400
TZNAME:EDT
DTSTART:20260308T070000
END:DAYLIGHT
BEGIN:STANDARD
TZOFFSETFROM:-0400
TZOFFSETTO:-0500
TZNAME:EST
DTSTART:20261101T060000
END:STANDARD
END:VTIMEZONE
BEGIN:VEVENT
DTSTART;VALUE=DATE:20250918
DTEND;VALUE=DATE:20250921
DTSTAMP:20260424T202041
CREATED:20250831T162548Z
LAST-MODIFIED:20250911T155625Z
UID:11041-1758153600-1758412799@www.teamwwf.org
SUMMARY:Porsche Carrera Cup - Round 6
DESCRIPTION:« All Events\n 				\n				\n				\n				\n					This event has passed. \n				\n				\n				\n				\n					\n	Porsche Carrera Cup – Round 6				\n				\n				\n				\n					\n		\n			September 18\n\n		\n	\n	  -  \n\n	September 20\n\n	\n				\n				\n				\n				\n					\n	\n				\n				\n				\n				\n									If you want to see TeamWWF Driver Ambassador Aaron Jeansonne race in person\, now is your chance. Jeansonne\, one of the top rookies and overall drivers in the Porsche Carrera Cup this season\, will make his Indianapolis Motor Speedway debut in September. It will be a busy weekend with IMSA in town\, as several races will take place from Friday to Sunday (Sept. 19-21). View the full schedule here: www.indianapolismotorspeedway.com/events/imsa. 								\n				\n				\n						\n					\n			\n						\n				\n					\n	\n\n	Categories:	\n		Porsche Carrera Cup	\n\n				\n				\n				\n				\n					\n	\n	Tags:	\n		\n	2025\,\n\n	Event\,\n\n	Indianapolis Motor Speedway\,\n\n	Porsche\n	\n\n				\n				\n				\n				\n					\n	\n	Website:	\n	https://porschecarreracup.us/\n\n				\n				\n					\n		\n				\n			\n							\n		\n					\n		\n				\n						\n					\n			\n						\n				\n					\n				\n				\n	\n			\n		Indianapolis Motor Speedway			\n	\n	\n	Address:\n	\n\n4790 W 16th St.\n	\n		\n		Indianapolis\,\n\n	IN\n\n	46222\n\n	United States\n\n\n\n\n	+ Google Map \n\n\n	\n	Phone:\n					\n						\n	 \n\n\n	\n	Website:\n	View Venue Website \n\n\n\n	\n\n		\n	\n				\n				\n					\n		\n					\n		\n				\n						\n					\n			\n						\n				\n					\n	\n		\n\n	\n	Add to calendar	\n		\n	\n\n		\n			\n									\n	Google Calendar\n\n									\n	iCalendar\n\n									\n	Outlook 365\n\n									\n	Outlook Live\n\n							\n		\n\n		\n	\n\n				\n				\n					\n		\n					\n		\n				\n						\n					\n			\n						\n				\n					\n	\n		\n\n				Trey Burke at South Boston Speedway with CARS Tour	\n\n\n		\n	\n		Trey Burke at Tri-County Speedway with CARS Tour
URL:https://www.teamwwf.org/event/porsche-carrera-cup-round-6/
LOCATION:Indianapolis Motor Speedway\, 4790 W 16th St.\, Indianapolis\, IN\, 46222\, United States
CATEGORIES:Porsche Carrera Cup
ATTACH;FMTTYPE=image/jpeg:https://www.teamwwf.org/wp-content/uploads/2025/09/Aarons-Porscheat-AMS.jpg
GEO:39.7881197;-86.2386635
X-APPLE-STRUCTURED-LOCATION;VALUE=URI;X-ADDRESS=Indianapolis Motor Speedway 4790 W 16th St. Indianapolis IN 46222 United States;X-APPLE-RADIUS=500;X-TITLE=4790 W 16th St.:geo:-86.2386635,39.7881197
END:VEVENT
END:VCALENDAR