BEGIN:VCALENDAR
VERSION:2.0
PRODID:-//TeamWWF - ECPv6.15.20//NONSGML v1.0//EN
CALSCALE:GREGORIAN
METHOD:PUBLISH
X-WR-CALNAME:TeamWWF
X-ORIGINAL-URL:https://www.teamwwf.org
X-WR-CALDESC:Events for TeamWWF
REFRESH-INTERVAL;VALUE=DURATION:PT1H
X-Robots-Tag:noindex
X-PUBLISHED-TTL:PT1H
BEGIN:VTIMEZONE
TZID:America/Indiana/Indianapolis
BEGIN:DAYLIGHT
TZOFFSETFROM:-0500
TZOFFSETTO:-0400
TZNAME:EDT
DTSTART:20240310T070000
END:DAYLIGHT
BEGIN:STANDARD
TZOFFSETFROM:-0400
TZOFFSETTO:-0500
TZNAME:EST
DTSTART:20241103T060000
END:STANDARD
BEGIN:DAYLIGHT
TZOFFSETFROM:-0500
TZOFFSETTO:-0400
TZNAME:EDT
DTSTART:20250309T070000
END:DAYLIGHT
BEGIN:STANDARD
TZOFFSETFROM:-0400
TZOFFSETTO:-0500
TZNAME:EST
DTSTART:20251102T060000
END:STANDARD
BEGIN:DAYLIGHT
TZOFFSETFROM:-0500
TZOFFSETTO:-0400
TZNAME:EDT
DTSTART:20260308T070000
END:DAYLIGHT
BEGIN:STANDARD
TZOFFSETFROM:-0400
TZOFFSETTO:-0500
TZNAME:EST
DTSTART:20261101T060000
END:STANDARD
END:VTIMEZONE
BEGIN:VEVENT
DTSTART;VALUE=DATE:20251018
DTEND;VALUE=DATE:20251019
DTSTAMP:20260424T215235
CREATED:20250912T003205Z
LAST-MODIFIED:20250912T234036Z
UID:11954-1760745600-1760831999@www.teamwwf.org
SUMMARY:Trey Burke at North Wilkesboro Speedway with CARS Tour
DESCRIPTION:« All Events\n 				\n				\n				\n				\n					This event has passed. \n				\n				\n				\n				\n					\n	Trey Burke at North Wilkesboro Speedway with CARS Tour				\n				\n				\n				\n					\n		\n			October 18\n\n		\n\n\n	\n				\n				\n				\n				\n					\n	\n				\n				\n				\n						\n					\n			\n						\n				\n					\n	\n\n	Categories:	\n		CARS Tour	\n\n				\n				\n				\n				\n					\n	\n	Tags:	\n		\n	2025\,\n\n	Trey Burke\n	\n\n				\n				\n					\n		\n				\n			\n							\n		\n					\n		\n				\n						\n					\n			\n						\n				\n					\n				\n				\n	\n			\n		North Wilkesboro Speedway			\n	\n	\n	Address:\n	\n\n381 Speedway Lane\n	\n		\n		North Wilkesboro\,\n\n	NC\n\n	28659\n\n	United States\n\n\n\n\n	+ Google Map \n\n\n	\n	Phone:\n					\n			336-844-4735			\n	 \n\n\n	\n	Website:\n	View Venue Website \n\n\n\n	\n\n		\n	\n				\n				\n					\n		\n					\n		\n				\n						\n					\n			\n						\n				\n					\n	\n		\n\n	\n	Add to calendar	\n		\n	\n\n		\n			\n									\n	Google Calendar\n\n									\n	iCalendar\n\n									\n	Outlook 365\n\n									\n	Outlook Live\n\n							\n		\n\n		\n	\n\n				\n				\n					\n		\n					\n		\n				\n						\n					\n			\n						\n				\n					\n	\n		\n\n				Aaron Jeansonne at Circuit of the Americas with Carrera Cup	\n\n\n		\n	\n		INDYCAR Oval Test
URL:https://www.teamwwf.org/event/trey-burke-at-north-wilkesboro-speedway-with-cars-tour/
LOCATION:North Wilkesboro Speedway\, 381 Speedway Lane\, North Wilkesboro\, NC\, 28659\, United States
CATEGORIES:CARS Tour
ATTACH;FMTTYPE=image/jpeg:https://www.teamwwf.org/wp-content/uploads/2025/09/Trey-Burke-Racecar-091125.jpg
GEO:36.14394;-81.074333
X-APPLE-STRUCTURED-LOCATION;VALUE=URI;X-ADDRESS=North Wilkesboro Speedway 381 Speedway Lane North Wilkesboro NC 28659 United States;X-APPLE-RADIUS=500;X-TITLE=381 Speedway Lane:geo:-81.074333,36.14394
END:VEVENT
END:VCALENDAR