BEGIN:VCALENDAR
VERSION:2.0
PRODID:-//TeamWWF - ECPv6.15.20//NONSGML v1.0//EN
CALSCALE:GREGORIAN
METHOD:PUBLISH
X-WR-CALNAME:TeamWWF
X-ORIGINAL-URL:https://www.teamwwf.org
X-WR-CALDESC:Events for TeamWWF
REFRESH-INTERVAL;VALUE=DURATION:PT1H
X-Robots-Tag:noindex
X-PUBLISHED-TTL:PT1H
BEGIN:VTIMEZONE
TZID:America/Indiana/Indianapolis
BEGIN:DAYLIGHT
TZOFFSETFROM:-0500
TZOFFSETTO:-0400
TZNAME:EDT
DTSTART:20240310T070000
END:DAYLIGHT
BEGIN:STANDARD
TZOFFSETFROM:-0400
TZOFFSETTO:-0500
TZNAME:EST
DTSTART:20241103T060000
END:STANDARD
BEGIN:DAYLIGHT
TZOFFSETFROM:-0500
TZOFFSETTO:-0400
TZNAME:EDT
DTSTART:20250309T070000
END:DAYLIGHT
BEGIN:STANDARD
TZOFFSETFROM:-0400
TZOFFSETTO:-0500
TZNAME:EST
DTSTART:20251102T060000
END:STANDARD
BEGIN:DAYLIGHT
TZOFFSETFROM:-0500
TZOFFSETTO:-0400
TZNAME:EDT
DTSTART:20260308T070000
END:DAYLIGHT
BEGIN:STANDARD
TZOFFSETFROM:-0400
TZOFFSETTO:-0500
TZNAME:EST
DTSTART:20261101T060000
END:STANDARD
END:VTIMEZONE
BEGIN:VEVENT
DTSTART;VALUE=DATE:20250913
DTEND;VALUE=DATE:20250914
DTSTAMP:20260424T232643
CREATED:20250909T051501Z
LAST-MODIFIED:20250911T231353Z
UID:11805-1757721600-1757807999@www.teamwwf.org
SUMMARY:Trey Burke at South Boston Speedway with CARS Tour
DESCRIPTION:« All Events\n 				\n				\n				\n				\n					This event has passed. \n				\n				\n				\n				\n					\n	Trey Burke at South Boston Speedway with CARS Tour				\n				\n				\n				\n					\n		\n			September 13\n\n		\n\n\n	\n				\n				\n				\n				\n					\n	\n				\n				\n				\n						\n					\n			\n						\n				\n					\n	\n\n	Categories:	\n		CARS Tour	\n\n				\n				\n				\n				\n					\n	\n	Tags:	\n		\n	2025\,\n\n	CARS Tour\,\n\n	Event\,\n\n	Trey Burke\n	\n\n				\n				\n				\n				\n					\n	\n	Website:	\n	https://www.carsracingtour.com/\n\n				\n				\n					\n		\n				\n			\n							\n		\n					\n		\n				\n						\n					\n			\n						\n				\n					\n				\n				\n	\n			\n		South Boston Speedway			\n	\n	\n	Address:\n	\n\n1188 James D. Hagood Highway\n	\n		\n		South Boston\,\n\n	VA\n\n	24592\n\n	United States\n\n\n\n\n	+ Google Map \n\n\n	\n	Phone:\n					\n			(434) 572-4947			\n	 \n\n\n	\n	Website:\n	View Venue Website \n\n\n\n	\n\n		\n	\n				\n				\n					\n		\n					\n		\n				\n						\n					\n			\n						\n				\n					\n	\n		\n\n	\n	Add to calendar	\n		\n	\n\n		\n			\n									\n	Google Calendar\n\n									\n	iCalendar\n\n									\n	Outlook 365\n\n									\n	Outlook Live\n\n							\n		\n\n		\n	\n\n				\n				\n					\n		\n					\n		\n				\n						\n					\n			\n						\n				\n					\n	\n		\n\n				Designer Bag Bingo	\n\n\n		\n	\n		Porsche Carrera Cup - Round 6
URL:https://www.teamwwf.org/event/trey-burke-at-south-boston-speedway-with-cars-tour/
LOCATION:South Boston Speedway\, 1188 James D. Hagood Highway\, South Boston\, VA\, 24592\, United States
CATEGORIES:CARS Tour
ATTACH;FMTTYPE=image/jpeg:https://www.teamwwf.org/wp-content/uploads/2025/08/Givebutter-Trey-Burke-2025-1200x630-3.jpg
GEO:36.710075;-78.869173
X-APPLE-STRUCTURED-LOCATION;VALUE=URI;X-ADDRESS=South Boston Speedway 1188 James D. Hagood Highway South Boston VA 24592 United States;X-APPLE-RADIUS=500;X-TITLE=1188 James D. Hagood Highway:geo:-78.869173,36.710075
END:VEVENT
END:VCALENDAR