BEGIN:VCALENDAR
VERSION:2.0
PRODID:-//TeamWWF - ECPv6.15.20//NONSGML v1.0//EN
CALSCALE:GREGORIAN
METHOD:PUBLISH
X-WR-CALNAME:TeamWWF
X-ORIGINAL-URL:https://www.teamwwf.org
X-WR-CALDESC:Events for TeamWWF
REFRESH-INTERVAL;VALUE=DURATION:PT1H
X-Robots-Tag:noindex
X-PUBLISHED-TTL:PT1H
BEGIN:VTIMEZONE
TZID:America/Indiana/Indianapolis
BEGIN:DAYLIGHT
TZOFFSETFROM:-0500
TZOFFSETTO:-0400
TZNAME:EDT
DTSTART:20250309T070000
END:DAYLIGHT
BEGIN:STANDARD
TZOFFSETFROM:-0400
TZOFFSETTO:-0500
TZNAME:EST
DTSTART:20251102T060000
END:STANDARD
BEGIN:DAYLIGHT
TZOFFSETFROM:-0500
TZOFFSETTO:-0400
TZNAME:EDT
DTSTART:20260308T070000
END:DAYLIGHT
BEGIN:STANDARD
TZOFFSETFROM:-0400
TZOFFSETTO:-0500
TZNAME:EST
DTSTART:20261101T060000
END:STANDARD
BEGIN:DAYLIGHT
TZOFFSETFROM:-0500
TZOFFSETTO:-0400
TZNAME:EDT
DTSTART:20270314T070000
END:DAYLIGHT
BEGIN:STANDARD
TZOFFSETFROM:-0400
TZOFFSETTO:-0500
TZNAME:EST
DTSTART:20271107T060000
END:STANDARD
END:VTIMEZONE
BEGIN:VEVENT
DTSTART;VALUE=DATE:20260829
DTEND;VALUE=DATE:20260831
DTSTAMP:20260425T071159
CREATED:20251214T172616Z
LAST-MODIFIED:20251219T040847Z
UID:10000073-1787961600-1788134399@www.teamwwf.org
SUMMARY:SCCA Super Tour at Barber Motorsports Park
DESCRIPTION:The Greatest Spectacle In College RacingRace 69Schedule of events April 25\, 2026 10:00 AM — GATES OPEN10:55 AM — SPRINT RACE 1 STARTS 11:45 AM — Sprint Race 2 Starts12:30 PM — Sprint race 3 starts1:55 PM — Pre-race festivities begin2:05 PM — Goldusters performance\, race 69 queen crowning\, scholarship recipients introduction2:15 PM — DRIVER INTRODUCTIONS2:30 Pm — GRAND MARSHAL WELCOME2:35 PM — THE GREATEST SPECTACLE IN COLLEGE RACING!								\n				\n					\n				\n				\n						\n					\n			\n						\n				\n					\n	« All Events\n 				\n				\n				\n				\n					\n	\n		\n			\n			\n\n			\n	\n			\n\n\n			\n	\n		Purdue Grand Prix	\n\n\n			\n			\n	Hooray! \n		\n	\n\n				\n				\n				\n				\n					\n	Purdue Grand Prix				\n				\n				\n				\n					\n		\n			April 25\n\n		\n\n\n	\n				\n				\n				\n				\n					\n	\n				\n				\n				\n						\n					\n			\n						\n				\n					\n	\n	Tags:	\n		\n	2026\,\n\n	Ayrton Houk\n	\n\n				\n				\n					\n		\n				\n			\n							\n		\n					\n		\n				\n						\n					\n			\n							\n		\n					\n		\n				\n						\n					\n			\n						\n				\n					\n	\n		\n\n	\n	Add to calendar	\n		\n	\n\n		\n			\n									\n	Google Calendar\n\n									\n	iCalendar\n\n									\n	Outlook 365\n\n									\n	Outlook Live\n\n							\n		\n\n		\n	\n\n				\n				\n					\n		\n					\n		\n				\n				\n					\n				\n				\n	\n			\n		Purdue Grand Prix			\n	\n	\n	Address:\n	\n\nPurdue Memorial Union - Office B050F\n	\n		\n		West Lafayette\,\n\n	IN\n\n	47907\n\n	United States\n\n\n\n\n	+ Google Map \n\n\n	\n	Phone:\n					\n						\n	 \n\n\n	\n	Website:\n	View Venue Website \n\n\n\n	\n\n		\n	\n				\n				\n				\n						\n					\n			\n						\n				\n					\n	\n		\n\n				SCCA Super Tour at Virginia International Raceway	\n\n\n		\n	\n		Sonsio Grand Prix Practice & Qualifying
URL:https://www.teamwwf.org/event/scca-super-tour-at-barber-motorsports-park/
LOCATION:Barber Motorsports Park\, 6040 Barber Motorsports Parkway\, Birmingham\, AL\, 35094\, United States
CATEGORIES:SCCA
ATTACH;FMTTYPE=image/jpeg:https://www.teamwwf.org/wp-content/uploads/2023/10/BMP-logo.jpg
GEO:33.5329238;-86.6200026
X-APPLE-STRUCTURED-LOCATION;VALUE=URI;X-ADDRESS=Barber Motorsports Park 6040 Barber Motorsports Parkway Birmingham AL 35094 United States;X-APPLE-RADIUS=500;X-TITLE=6040 Barber Motorsports Parkway:geo:-86.6200026,33.5329238
END:VEVENT
END:VCALENDAR