BEGIN:VCALENDAR
VERSION:2.0
PRODID:-//TeamWWF - ECPv6.15.20//NONSGML v1.0//EN
CALSCALE:GREGORIAN
METHOD:PUBLISH
X-ORIGINAL-URL:https://www.teamwwf.org
X-WR-CALDESC:Events for TeamWWF
REFRESH-INTERVAL;VALUE=DURATION:PT1H
X-Robots-Tag:noindex
X-PUBLISHED-TTL:PT1H
BEGIN:VTIMEZONE
TZID:America/Indiana/Indianapolis
BEGIN:DAYLIGHT
TZOFFSETFROM:-0500
TZOFFSETTO:-0400
TZNAME:EDT
DTSTART:20240310T070000
END:DAYLIGHT
BEGIN:STANDARD
TZOFFSETFROM:-0400
TZOFFSETTO:-0500
TZNAME:EST
DTSTART:20241103T060000
END:STANDARD
BEGIN:DAYLIGHT
TZOFFSETFROM:-0500
TZOFFSETTO:-0400
TZNAME:EDT
DTSTART:20250309T070000
END:DAYLIGHT
BEGIN:STANDARD
TZOFFSETFROM:-0400
TZOFFSETTO:-0500
TZNAME:EST
DTSTART:20251102T060000
END:STANDARD
BEGIN:DAYLIGHT
TZOFFSETFROM:-0500
TZOFFSETTO:-0400
TZNAME:EDT
DTSTART:20260308T070000
END:DAYLIGHT
BEGIN:STANDARD
TZOFFSETFROM:-0400
TZOFFSETTO:-0500
TZNAME:EST
DTSTART:20261101T060000
END:STANDARD
END:VTIMEZONE
BEGIN:VEVENT
DTSTART;VALUE=DATE:20251004
DTEND;VALUE=DATE:20251006
DTSTAMP:20260425T132719
CREATED:20250912T001328Z
LAST-MODIFIED:20250912T023207Z
UID:10000043-1759536000-1759708799@www.teamwwf.org
SUMMARY:Jason Pribyl at Donington Park with GB4 Championship
DESCRIPTION:« All Events\n 				\n				\n				\n				\n					This event has passed. \n				\n				\n				\n				\n					\n	Jason Pribyl at Donington Park with GB4 Championship				\n				\n				\n				\n					\n		\n			October 4\n\n		\n	\n	  -  \n\n	October 5\n\n	\n				\n				\n				\n				\n					\n	\n				\n				\n				\n						\n					\n			\n						\n				\n					\n	\n\n	Categories:	\n		GB4 Championship	\n\n				\n				\n				\n				\n					\n	\n	Tags:	\n		\n	2025\,\n\n	Donington Park\,\n\n	Jason Pribyl\n	\n\n				\n				\n					\n		\n				\n			\n							\n		\n					\n		\n				\n						\n					\n			\n						\n				\n					\n				\n				\n	\n			\n		Donington Park Circuit			\n	\n	\n	Address:\n	\n\nDonington Park\n	\n		\n		Castle Donington\,\n\n	Derby\n\n	DE74 2BN\n\n	United Kingdom\n\n\n\n\n	+ Google Map \n\n\n	\n	Phone:\n					\n			+44(0) 1332 810048			\n	 \n\n\n	\n	Website:\n	View Venue Website \n\n\n\n	\n\n		\n	\n				\n				\n					\n		\n					\n		\n				\n						\n					\n			\n						\n				\n					\n	\n		\n\n	\n	Add to calendar	\n		\n	\n\n		\n			\n									\n	Google Calendar\n\n									\n	iCalendar\n\n									\n	Outlook 365\n\n									\n	Outlook Live\n\n							\n		\n\n		\n	\n\n				\n				\n					\n		\n					\n		\n				\n						\n					\n			\n						\n				\n					\n	\n		\n\n				Porsche Carrera Cup - Round 6	\n\n\n		\n	\n		Nathan Nicholson at Road Atlanta with Mazda MX-5 Cup
URL:https://www.teamwwf.org/event/jason-pribyl-at-donington-park-with-gb4-championship/
LOCATION:Donington Park Circuit\, Donington Park\, Castle Donington\, Derby\, DE74 2BN\, United Kingdom
CATEGORIES:GB4 Championship
ATTACH;FMTTYPE=image/jpeg:https://www.teamwwf.org/wp-content/uploads/2025/08/Givebutter-Jason-Pribyl-2025-1200x630-3.jpg
END:VEVENT
END:VCALENDAR