BEGIN:VCALENDAR
VERSION:2.0
PRODID:-//TeamWWF - ECPv6.15.20//NONSGML v1.0//EN
CALSCALE:GREGORIAN
METHOD:PUBLISH
X-WR-CALNAME:TeamWWF
X-ORIGINAL-URL:https://www.teamwwf.org
X-WR-CALDESC:Events for TeamWWF
REFRESH-INTERVAL;VALUE=DURATION:PT1H
X-Robots-Tag:noindex
X-PUBLISHED-TTL:PT1H
BEGIN:VTIMEZONE
TZID:America/Indiana/Indianapolis
BEGIN:DAYLIGHT
TZOFFSETFROM:-0500
TZOFFSETTO:-0400
TZNAME:EDT
DTSTART:20240310T070000
END:DAYLIGHT
BEGIN:STANDARD
TZOFFSETFROM:-0400
TZOFFSETTO:-0500
TZNAME:EST
DTSTART:20241103T060000
END:STANDARD
BEGIN:DAYLIGHT
TZOFFSETFROM:-0500
TZOFFSETTO:-0400
TZNAME:EDT
DTSTART:20250309T070000
END:DAYLIGHT
BEGIN:STANDARD
TZOFFSETFROM:-0400
TZOFFSETTO:-0500
TZNAME:EST
DTSTART:20251102T060000
END:STANDARD
BEGIN:DAYLIGHT
TZOFFSETFROM:-0500
TZOFFSETTO:-0400
TZNAME:EDT
DTSTART:20260308T070000
END:DAYLIGHT
BEGIN:STANDARD
TZOFFSETFROM:-0400
TZOFFSETTO:-0500
TZNAME:EST
DTSTART:20261101T060000
END:STANDARD
END:VTIMEZONE
BEGIN:VEVENT
DTSTART;VALUE=DATE:20251017
DTEND;VALUE=DATE:20251020
DTSTAMP:20260424T235333
CREATED:20250912T004456Z
LAST-MODIFIED:20251007T144508Z
UID:10000047-1760659200-1760918399@www.teamwwf.org
SUMMARY:Aaron Jeansonne at Circuit of the Americas with Carrera Cup
DESCRIPTION:« All Events\n 				\n				\n				\n				\n					This event has passed. \n				\n				\n				\n				\n					\n	Aaron Jeansonne at Circuit of the Americas with Carrera Cup				\n				\n				\n				\n					\n		\n			October 17\n\n		\n	\n	  -  \n\n	October 19\n\n	\n				\n				\n				\n				\n					\n	\n				\n				\n				\n						\n					\n			\n						\n				\n					\n	\n\n	Categories:	\n		Porsche Carrera Cup	\n\n				\n				\n				\n				\n					\n	\n	Tags:	\n		\n	2025\,\n\n	Circuit of the Americas\n	\n\n				\n				\n					\n		\n				\n			\n							\n		\n					\n		\n				\n						\n					\n			\n						\n				\n					\n				\n				\n	\n			\n		Circuit of the Americas			\n	\n	\n	Address:\n	\n\n9201 Circuit of The Americas Blvd\n	\n		\n		Austin\,\n\n	TX\n\n	78617\n\n	United States\n\n\n\n\n	+ Google Map \n\n\n	\n	Phone:\n					\n			(512) 301-6600			\n	 \n\n\n	\n	Website:\n	View Venue Website \n\n\n\n	\n\n		\n	\n				\n				\n					\n		\n					\n		\n				\n						\n					\n			\n						\n				\n					\n	\n		\n\n	\n	Add to calendar	\n		\n	\n\n		\n			\n									\n	Google Calendar\n\n									\n	iCalendar\n\n									\n	Outlook 365\n\n									\n	Outlook Live\n\n							\n		\n\n		\n	\n\n				\n				\n					\n		\n					\n		\n				\n						\n					\n			\n						\n				\n					\n	\n		\n\n				Indianapolis 8 Hour	\n\n\n		\n	\n		Trey Burke at North Wilkesboro Speedway with CARS Tour
URL:https://www.teamwwf.org/event/aaron-jeansonne-at-circuit-of-the-americas-with-carrera-cup/
LOCATION:Circuit of the Americas\, 9201 Circuit of The Americas Blvd\, Austin\, TX\, 78617\, United States
CATEGORIES:Porsche Carrera Cup
ATTACH;FMTTYPE=image/jpeg:https://www.teamwwf.org/wp-content/uploads/2025/08/Givebutter-Aaron-Jeansonne-2025-1200x630-3.jpg
GEO:30.138149;-97.640388
X-APPLE-STRUCTURED-LOCATION;VALUE=URI;X-ADDRESS=Circuit of the Americas 9201 Circuit of The Americas Blvd Austin TX 78617 United States;X-APPLE-RADIUS=500;X-TITLE=9201 Circuit of The Americas Blvd:geo:-97.640388,30.138149
END:VEVENT
BEGIN:VEVENT
DTSTART;VALUE=DATE:20251008
DTEND;VALUE=DATE:20251012
DTSTAMP:20260424T235333
CREATED:20250912T002354Z
LAST-MODIFIED:20250912T023308Z
UID:10000045-1759881600-1760227199@www.teamwwf.org
SUMMARY:Aaron Jeansonne at Road Atlanta with Carrera Cup
DESCRIPTION:« All Events\n 				\n				\n				\n				\n					This event has passed. \n				\n				\n				\n				\n					\n	Aaron Jeansonne at Circuit of the Americas with Carrera Cup				\n				\n				\n				\n					\n		\n			October 17\n\n		\n	\n	  -  \n\n	October 19\n\n	\n				\n				\n				\n				\n					\n	\n				\n				\n				\n						\n					\n			\n						\n				\n					\n	\n\n	Categories:	\n		Porsche Carrera Cup	\n\n				\n				\n				\n				\n					\n	\n	Tags:	\n		\n	2025\,\n\n	Circuit of the Americas\n	\n\n				\n				\n					\n		\n				\n			\n							\n		\n					\n		\n				\n						\n					\n			\n						\n				\n					\n				\n				\n	\n			\n		Circuit of the Americas			\n	\n	\n	Address:\n	\n\n9201 Circuit of The Americas Blvd\n	\n		\n		Austin\,\n\n	TX\n\n	78617\n\n	United States\n\n\n\n\n	+ Google Map \n\n\n	\n	Phone:\n					\n			(512) 301-6600			\n	 \n\n\n	\n	Website:\n	View Venue Website \n\n\n\n	\n\n		\n	\n				\n				\n					\n		\n					\n		\n				\n						\n					\n			\n						\n				\n					\n	\n		\n\n	\n	Add to calendar	\n		\n	\n\n		\n			\n									\n	Google Calendar\n\n									\n	iCalendar\n\n									\n	Outlook 365\n\n									\n	Outlook Live\n\n							\n		\n\n		\n	\n\n				\n				\n					\n		\n					\n		\n				\n						\n					\n			\n						\n				\n					\n	\n		\n\n				Indianapolis 8 Hour	\n\n\n		\n	\n		Trey Burke at North Wilkesboro Speedway with CARS Tour
URL:https://www.teamwwf.org/event/aaron-jeansonne-at-road-atlanta-with-carrera-cup/
LOCATION:Road America\, N7390 Hwy 67\, Plymouth\, WI\, 53073\, United States
CATEGORIES:Porsche Carrera Cup
ATTACH;FMTTYPE=image/jpeg:https://www.teamwwf.org/wp-content/uploads/2025/08/Givebutter-Aaron-Jeansonne-2025-1200x630-3.jpg
GEO:43.8054882;-87.991755
X-APPLE-STRUCTURED-LOCATION;VALUE=URI;X-ADDRESS=Road America N7390 Hwy 67 Plymouth WI 53073 United States;X-APPLE-RADIUS=500;X-TITLE=N7390 Hwy 67:geo:-87.991755,43.8054882
END:VEVENT
BEGIN:VEVENT
DTSTART;VALUE=DATE:20250918
DTEND;VALUE=DATE:20250921
DTSTAMP:20260424T235333
CREATED:20250831T162548Z
LAST-MODIFIED:20250911T155625Z
UID:10000039-1758153600-1758412799@www.teamwwf.org
SUMMARY:Porsche Carrera Cup - Round 6
DESCRIPTION:« All Events\n 				\n				\n				\n				\n					This event has passed. \n				\n				\n				\n				\n					\n	Aaron Jeansonne at Circuit of the Americas with Carrera Cup				\n				\n				\n				\n					\n		\n			October 17\n\n		\n	\n	  -  \n\n	October 19\n\n	\n				\n				\n				\n				\n					\n	\n				\n				\n				\n						\n					\n			\n						\n				\n					\n	\n\n	Categories:	\n		Porsche Carrera Cup	\n\n				\n				\n				\n				\n					\n	\n	Tags:	\n		\n	2025\,\n\n	Circuit of the Americas\n	\n\n				\n				\n					\n		\n				\n			\n							\n		\n					\n		\n				\n						\n					\n			\n						\n				\n					\n				\n				\n	\n			\n		Circuit of the Americas			\n	\n	\n	Address:\n	\n\n9201 Circuit of The Americas Blvd\n	\n		\n		Austin\,\n\n	TX\n\n	78617\n\n	United States\n\n\n\n\n	+ Google Map \n\n\n	\n	Phone:\n					\n			(512) 301-6600			\n	 \n\n\n	\n	Website:\n	View Venue Website \n\n\n\n	\n\n		\n	\n				\n				\n					\n		\n					\n		\n				\n						\n					\n			\n						\n				\n					\n	\n		\n\n	\n	Add to calendar	\n		\n	\n\n		\n			\n									\n	Google Calendar\n\n									\n	iCalendar\n\n									\n	Outlook 365\n\n									\n	Outlook Live\n\n							\n		\n\n		\n	\n\n				\n				\n					\n		\n					\n		\n				\n						\n					\n			\n						\n				\n					\n	\n		\n\n				Indianapolis 8 Hour	\n\n\n		\n	\n		Trey Burke at North Wilkesboro Speedway with CARS Tour
URL:https://www.teamwwf.org/event/porsche-carrera-cup-round-6/
LOCATION:Indianapolis Motor Speedway\, 4790 W 16th St.\, Indianapolis\, IN\, 46222\, United States
CATEGORIES:Porsche Carrera Cup
ATTACH;FMTTYPE=image/jpeg:https://www.teamwwf.org/wp-content/uploads/2025/09/Aarons-Porscheat-AMS.jpg
GEO:39.7881197;-86.2386635
X-APPLE-STRUCTURED-LOCATION;VALUE=URI;X-ADDRESS=Indianapolis Motor Speedway 4790 W 16th St. Indianapolis IN 46222 United States;X-APPLE-RADIUS=500;X-TITLE=4790 W 16th St.:geo:-86.2386635,39.7881197
END:VEVENT
END:VCALENDAR