BEGIN:VCALENDAR
VERSION:2.0
PRODID:-//TeamWWF - ECPv6.15.20//NONSGML v1.0//EN
CALSCALE:GREGORIAN
METHOD:PUBLISH
X-WR-CALNAME:TeamWWF
X-ORIGINAL-URL:https://www.teamwwf.org
X-WR-CALDESC:Events for TeamWWF
REFRESH-INTERVAL;VALUE=DURATION:PT1H
X-Robots-Tag:noindex
X-PUBLISHED-TTL:PT1H
BEGIN:VTIMEZONE
TZID:America/Indiana/Indianapolis
BEGIN:DAYLIGHT
TZOFFSETFROM:-0500
TZOFFSETTO:-0400
TZNAME:EDT
DTSTART:20230312T070000
END:DAYLIGHT
BEGIN:STANDARD
TZOFFSETFROM:-0400
TZOFFSETTO:-0500
TZNAME:EST
DTSTART:20231105T060000
END:STANDARD
BEGIN:DAYLIGHT
TZOFFSETFROM:-0500
TZOFFSETTO:-0400
TZNAME:EDT
DTSTART:20240310T070000
END:DAYLIGHT
BEGIN:STANDARD
TZOFFSETFROM:-0400
TZOFFSETTO:-0500
TZNAME:EST
DTSTART:20241103T060000
END:STANDARD
BEGIN:DAYLIGHT
TZOFFSETFROM:-0500
TZOFFSETTO:-0400
TZNAME:EDT
DTSTART:20250309T070000
END:DAYLIGHT
BEGIN:STANDARD
TZOFFSETFROM:-0400
TZOFFSETTO:-0500
TZNAME:EST
DTSTART:20251102T060000
END:STANDARD
BEGIN:DAYLIGHT
TZOFFSETFROM:-0500
TZOFFSETTO:-0400
TZNAME:EDT
DTSTART:20260308T070000
END:DAYLIGHT
BEGIN:STANDARD
TZOFFSETFROM:-0400
TZOFFSETTO:-0500
TZNAME:EST
DTSTART:20261101T060000
END:STANDARD
END:VTIMEZONE
BEGIN:VEVENT
DTSTART;VALUE=DATE:20250918
DTEND;VALUE=DATE:20250921
DTSTAMP:20260424T221111
CREATED:20250831T162548Z
LAST-MODIFIED:20250911T155625Z
UID:10000039-1758153600-1758412799@www.teamwwf.org
SUMMARY:Porsche Carrera Cup - Round 6
DESCRIPTION:« All Events \nPorsche Carrera Cup – Round 6\nSeptember 18\n–\nSeptember 20\n \nIf you want to see TeamWWF Driver Ambassador Aaron Jeansonne race in person\, now is your chance. \nJeansonne\, one of the top rookies and overall drivers in the Porsche Carrera Cup this season\, will make his Indianapolis Motor Speedway debut in September. \nIt will be a busy weekend with IMSA in town\, as several races will take place from Friday to Sunday (Sept. 19-21). View the full schedule here: www.indianapolismotorspeedway.com/events/imsa. \nCategories:\nPorsche Carrera Cup \nTags:\n\n2025\,\n\nEvent\,\n\nIndianapolis Motor Speedway\,\n\nPorsche \nWebsite:\nhttps://porschecarreracup.us/ \n\nIndianapolis Motor Speedway \nAddress:\n4790 W 16th St\, Indianapolis\, IN 46222Indianapolis\,\nUnited States\n+ Google Map \nPhone:\n  \nWebsite:\nView Venue Website \n\n\n\nAdd to calendar \n  \n\nGoogle Calendar\niCalendar\nOutlook 365\nOutlook Live\n\n\n\n\nTrey Burke at South Boston Speedway with CARS Tour \n\nTrey Burke at Tri-County Speedway with CARS Tour
URL:https://www.teamwwf.org/event/porsche-carrera-cup-round-6/
LOCATION:Indianapolis Motor Speedway\, 4790 W 16th St.\, Indianapolis\, IN\, 46222\, United States
CATEGORIES:Porsche Carrera Cup
ATTACH;FMTTYPE=image/jpeg:https://www.teamwwf.org/wp-content/uploads/2025/09/Aarons-Porscheat-AMS.jpg
GEO:39.7881197;-86.2386635
X-APPLE-STRUCTURED-LOCATION;VALUE=URI;X-ADDRESS=Indianapolis Motor Speedway 4790 W 16th St. Indianapolis IN 46222 United States;X-APPLE-RADIUS=500;X-TITLE=4790 W 16th St.:geo:-86.2386635,39.7881197
END:VEVENT
BEGIN:VEVENT
DTSTART;VALUE=DATE:20240526
DTEND;VALUE=DATE:20240527
DTSTAMP:20260424T221111
CREATED:20231002T211325Z
LAST-MODIFIED:20231003T040753Z
UID:10000010-1716681600-1716767999@www.teamwwf.org
SUMMARY:Indianapolis Motor Speedway (oval)
DESCRIPTION:NASCAR will compete on the famed 2.5-mile oval July 20-21\, 2024\, in a weekend that will celebrate NASCAR’s roots at the Racing Capital of the World.
URL:https://www.teamwwf.org/event/indianapolis-motor-speedway-oval/
LOCATION:Indianapolis Motor Speedway\, 4790 W 16th St.\, Indianapolis\, IN\, 46222\, United States
CATEGORIES:INDYCAR
ATTACH;FMTTYPE=image/png:https://www.teamwwf.org/wp-content/uploads/2023/10/Indianapolis_Motor_Speedway_logo.svg.png
GEO:39.7881197;-86.2386635
X-APPLE-STRUCTURED-LOCATION;VALUE=URI;X-ADDRESS=Indianapolis Motor Speedway 4790 W 16th St. Indianapolis IN 46222 United States;X-APPLE-RADIUS=500;X-TITLE=4790 W 16th St.:geo:-86.2386635,39.7881197
END:VEVENT
BEGIN:VEVENT
DTSTART;VALUE=DATE:20240518
DTEND;VALUE=DATE:20240519
DTSTAMP:20260424T221111
CREATED:20231002T210731Z
LAST-MODIFIED:20231003T031707Z
UID:10000008-1715990400-1716076799@www.teamwwf.org
SUMMARY:Indianapolis 500 Qualifying Day 1
DESCRIPTION:The roar of engines returns to the Indianapolis Motor Speedway as athletes of the NTT INDYCAR SERIES prepare for the 108th Running of the Indianapolis 500 presented by Gainbridge. Enjoy the sights and sounds of May at the Brickyard while seeing your favorite drivers push their cars to the limit at speeds over 230 mph.
URL:https://www.teamwwf.org/event/indianapolis-500-qualifying-day-1/
LOCATION:Indianapolis Motor Speedway\, 4790 W 16th St.\, Indianapolis\, IN\, 46222\, United States
CATEGORIES:INDYCAR
ATTACH;FMTTYPE=image/png:https://www.teamwwf.org/wp-content/uploads/2023/10/Indianapolis_Motor_Speedway_logo.svg.png
GEO:39.7881197;-86.2386635
X-APPLE-STRUCTURED-LOCATION;VALUE=URI;X-ADDRESS=Indianapolis Motor Speedway 4790 W 16th St. Indianapolis IN 46222 United States;X-APPLE-RADIUS=500;X-TITLE=4790 W 16th St.:geo:-86.2386635,39.7881197
END:VEVENT
END:VCALENDAR