BEGIN:VCALENDAR
VERSION:2.0
PRODID:-//TeamWWF - ECPv6.15.20//NONSGML v1.0//EN
CALSCALE:GREGORIAN
METHOD:PUBLISH
X-WR-CALNAME:TeamWWF
X-ORIGINAL-URL:https://www.teamwwf.org
X-WR-CALDESC:Events for TeamWWF
REFRESH-INTERVAL;VALUE=DURATION:PT1H
X-Robots-Tag:noindex
X-PUBLISHED-TTL:PT1H
BEGIN:VTIMEZONE
TZID:America/Indiana/Indianapolis
BEGIN:DAYLIGHT
TZOFFSETFROM:-0500
TZOFFSETTO:-0400
TZNAME:EDT
DTSTART:20230312T070000
END:DAYLIGHT
BEGIN:STANDARD
TZOFFSETFROM:-0400
TZOFFSETTO:-0500
TZNAME:EST
DTSTART:20231105T060000
END:STANDARD
BEGIN:DAYLIGHT
TZOFFSETFROM:-0500
TZOFFSETTO:-0400
TZNAME:EDT
DTSTART:20240310T070000
END:DAYLIGHT
BEGIN:STANDARD
TZOFFSETFROM:-0400
TZOFFSETTO:-0500
TZNAME:EST
DTSTART:20241103T060000
END:STANDARD
BEGIN:DAYLIGHT
TZOFFSETFROM:-0500
TZOFFSETTO:-0400
TZNAME:EDT
DTSTART:20250309T070000
END:DAYLIGHT
BEGIN:STANDARD
TZOFFSETFROM:-0400
TZOFFSETTO:-0500
TZNAME:EST
DTSTART:20251102T060000
END:STANDARD
BEGIN:DAYLIGHT
TZOFFSETFROM:-0500
TZOFFSETTO:-0400
TZNAME:EDT
DTSTART:20260308T070000
END:DAYLIGHT
BEGIN:STANDARD
TZOFFSETFROM:-0400
TZOFFSETTO:-0500
TZNAME:EST
DTSTART:20261101T060000
END:STANDARD
BEGIN:DAYLIGHT
TZOFFSETFROM:-0500
TZOFFSETTO:-0400
TZNAME:EDT
DTSTART:20270314T070000
END:DAYLIGHT
BEGIN:STANDARD
TZOFFSETFROM:-0400
TZOFFSETTO:-0500
TZNAME:EST
DTSTART:20271107T060000
END:STANDARD
END:VTIMEZONE
BEGIN:VEVENT
DTSTART;VALUE=DATE:20260306
DTEND;VALUE=DATE:20260309
DTSTAMP:20260425T000331
CREATED:20251214T163634Z
LAST-MODIFIED:20251214T164020Z
UID:10000067-1772755200-1773014399@www.teamwwf.org
SUMMARY:SCCA Super Tour
DESCRIPTION:« All Events \n\n\n\n\nSCCA Super Tour \n\nDD\ndays\nHH\nhours\nMM\nmins\n \nHooray! \nSCCA Super Tour\nMarch 6\n–\nMarch 8\n \nCategories:\nSCCA \nTags:\n\n2026\,\n\nHavok Motorsport\,\n\nSCCA \n\nHavoc Motorsport \nPhone:\n  \nWebsite:\nView Organizer Website \nEmail:\n  \n\nMichelin Raceway Road Atlanta \nAddress:\n5300 Winder Hwy \nBraselton\,\nGA\n30517\nUnited States\n+ Google Map \nPhone:\n  \nWebsite:\nView Venue Website \n\n\n\nAdd to calendar \n \n\nGoogle Calendar\niCalendar\nOutlook 365\nOutlook Live\n\n\n\n\nIndy NXT Test \n\nSonsio Grand Prix Practice & Qualifying
URL:https://www.teamwwf.org/event/scca-super-tour/
LOCATION:Michelin Raceway Road Atlanta\, 5300 Winder Hwy\, Braselton\, GA\, 30517\, United States
CATEGORIES:SCCA
ATTACH;FMTTYPE=image/webp:https://www.teamwwf.org/wp-content/uploads/2025/12/SCCA-2026-Supertour.webp
GEO:34.1522045;-83.8151161
X-APPLE-STRUCTURED-LOCATION;VALUE=URI;X-ADDRESS=Michelin Raceway Road Atlanta 5300 Winder Hwy Braselton GA 30517 United States;X-APPLE-RADIUS=500;X-TITLE=5300 Winder Hwy:geo:-83.8151161,34.1522045
END:VEVENT
BEGIN:VEVENT
DTSTART;VALUE=DATE:20251008
DTEND;VALUE=DATE:20251011
DTSTAMP:20260425T000331
CREATED:20250912T001812Z
LAST-MODIFIED:20250912T023150Z
UID:10000044-1759881600-1760140799@www.teamwwf.org
SUMMARY:Nathan Nicholson at Road Atlanta with Mazda MX-5 Cup
DESCRIPTION:« All Events\n \n\n	Nathan Nicholson at Road Atlanta with Mazda MX-5 Cup\n			October 8\n	  –\n	October 10\n	 \n\n	Categories:\n		Mazda MX-5 Cup	 \n\n	Tags:\n		\n	2025\,\n\n	Mazda MX-5 Cup\,\n\n	Nathan Nicholson\,\n\n	Road America \n\n			\n		Michelin Raceway Road Atlanta			\n	\n\n	Address:\n\n5300 Winder Hwy\n		\n		Braselton\,\n	GA\n	30517\n	United States\n\n\n	+ Google Map \n\n	Phone:\n\n					\n						\n	 \n\n	Website:\n\n	View Venue Website \n	\n\n	\n	Add to calendar	\n		\n	\n \n\n\n	Google Calendar\n\n\n	iCalendar\n\n\n	Outlook 365\n\n\n	Outlook Live\n\n\n\n\n\n\n				Jason Pribyl at Donington Park with GB4 Championship
URL:https://www.teamwwf.org/event/nathan-nicholson-at-road-atlanta-with-mazda-mx-5-cup/
LOCATION:Michelin Raceway Road Atlanta\, 5300 Winder Hwy\, Braselton\, GA\, 30517\, United States
CATEGORIES:Mazda MX-5 Cup
ATTACH;FMTTYPE=image/jpeg:https://www.teamwwf.org/wp-content/uploads/2025/08/Givebutter-Givebutter-Nathan-Nicholson-2025-1200x630-3.jpg
GEO:34.1522045;-83.8151161
X-APPLE-STRUCTURED-LOCATION;VALUE=URI;X-ADDRESS=Michelin Raceway Road Atlanta 5300 Winder Hwy Braselton GA 30517 United States;X-APPLE-RADIUS=500;X-TITLE=5300 Winder Hwy:geo:-83.8151161,34.1522045
END:VEVENT
BEGIN:VEVENT
DTSTART;VALUE=DATE:20241009
DTEND;VALUE=DATE:20241012
DTSTAMP:20260425T000331
CREATED:20231101T213010Z
LAST-MODIFIED:20231101T220859Z
UID:10000029-1728432000-1728691199@www.teamwwf.org
SUMMARY:MX-5 Cup season ends at Michelin Raceway Road Atlanta
DESCRIPTION:As has become tradition\, the MX-5 Cup season ends at Michelin Raceway Road Atlanta as part of IMSA’s celebrated season finale: Petit Le Mans. The final two races for the championship will occur October 9 – 11. \nBraselton\, GA  2.54-mile\, 12-turn road course \nRace Record  Jared Thomas / 11/12/21 / 1:36.567\nQualifying Record  Gresham Wagner / 11/11/21 / 1:35:390
URL:https://www.teamwwf.org/event/mx-5-cup-season-ends-at-michelin-raceway-road-atlanta/
LOCATION:Michelin Raceway Road Atlanta\, 5300 Winder Hwy\, Braselton\, GA\, 30517\, United States
CATEGORIES:IMSA
ATTACH;FMTTYPE=image/png:https://www.teamwwf.org/wp-content/uploads/2023/11/Michelin-Raceway-Road-Atlanta.png
GEO:34.1522045;-83.8151161
X-APPLE-STRUCTURED-LOCATION;VALUE=URI;X-ADDRESS=Michelin Raceway Road Atlanta 5300 Winder Hwy Braselton GA 30517 United States;X-APPLE-RADIUS=500;X-TITLE=5300 Winder Hwy:geo:-83.8151161,34.1522045
END:VEVENT
END:VCALENDAR