BEGIN:VCALENDAR
VERSION:2.0
PRODID:-//TeamWWF - ECPv6.15.20//NONSGML v1.0//EN
CALSCALE:GREGORIAN
METHOD:PUBLISH
X-WR-CALNAME:TeamWWF
X-ORIGINAL-URL:https://www.teamwwf.org
X-WR-CALDESC:Events for TeamWWF
REFRESH-INTERVAL;VALUE=DURATION:PT1H
X-Robots-Tag:noindex
X-PUBLISHED-TTL:PT1H
BEGIN:VTIMEZONE
TZID:America/Indiana/Indianapolis
BEGIN:DAYLIGHT
TZOFFSETFROM:-0500
TZOFFSETTO:-0400
TZNAME:EDT
DTSTART:20250309T070000
END:DAYLIGHT
BEGIN:STANDARD
TZOFFSETFROM:-0400
TZOFFSETTO:-0500
TZNAME:EST
DTSTART:20251102T060000
END:STANDARD
BEGIN:DAYLIGHT
TZOFFSETFROM:-0500
TZOFFSETTO:-0400
TZNAME:EDT
DTSTART:20260308T070000
END:DAYLIGHT
BEGIN:STANDARD
TZOFFSETFROM:-0400
TZOFFSETTO:-0500
TZNAME:EST
DTSTART:20261101T060000
END:STANDARD
BEGIN:DAYLIGHT
TZOFFSETFROM:-0500
TZOFFSETTO:-0400
TZNAME:EDT
DTSTART:20270314T070000
END:DAYLIGHT
BEGIN:STANDARD
TZOFFSETFROM:-0400
TZOFFSETTO:-0500
TZNAME:EST
DTSTART:20271107T060000
END:STANDARD
END:VTIMEZONE
BEGIN:VEVENT
DTSTART;VALUE=DATE:20260425
DTEND;VALUE=DATE:20260426
DTSTAMP:20260422T004209
CREATED:20260421T145035Z
LAST-MODIFIED:20260421T152223Z
UID:10000076-1777075200-1777161599@www.teamwwf.org
SUMMARY:Purdue Grand Prix
DESCRIPTION:The Greatest Spectacle In College Racing\nRace 69\nSchedule of events \nApril 25\, 2026\n10:00 AM — GATES OPEN\n10:55 AM — SPRINT RACE 1 STARTS \n11:45 AM — Sprint Race 2 Starts \n12:30 PM — Sprint race 3 starts \n1:55 PM — Pre-race festivities begin \n2:05 PM — Goldusters performance\, race 69 queen crowning\, scholarship recipients introduction \n2:15 PM — DRIVER INTRODUCTIONS \n2:30 Pm — GRAND MARSHAL WELCOME \n2:35 PM — THE GREATEST SPECTACLE IN COLLEGE RACING! \n« All Events \n\n\n\n\nPurdue Grand Prix \n\nDD\ndays\nHH\nhours\nMM\nmins\n \nHooray! \nPurdue Grand Prix\nApril 25\n \nTags:\n\n2026\n\n\nAdd to calendar \n \n\nGoogle Calendar\niCalendar\nOutlook 365\nOutlook Live\n\n\nPurdue Grand Prix \nAddress:\nPurdue Memorial Union – Office B050F \nWest Lafayette\,\nIN\n47907\nUnited States\n+ Google Map \nPhone:\n  \nWebsite:\nView Venue Website \n \n\n\n\nSCCA Super Tour at Virginia International Raceway \n\nSonsio Grand Prix Practice & Qualifying
URL:https://www.teamwwf.org/event/purdue-grand-prix/
LOCATION:Purdue Grand Prix\, Purdue Memorial Union - Office B050F\, West Lafayette\, IN\, 47907\, United States
ATTACH;FMTTYPE=image/png:https://www.teamwwf.org/wp-content/uploads/2026/04/purdue-grand-prix-logo.png
END:VEVENT
END:VCALENDAR