BEGIN:VCALENDAR
VERSION:2.0
PRODID:-//TeamWWF - ECPv6.15.20//NONSGML v1.0//EN
CALSCALE:GREGORIAN
METHOD:PUBLISH
X-ORIGINAL-URL:https://www.teamwwf.org
X-WR-CALDESC:Events for TeamWWF
REFRESH-INTERVAL;VALUE=DURATION:PT1H
X-Robots-Tag:noindex
X-PUBLISHED-TTL:PT1H
BEGIN:VTIMEZONE
TZID:America/Indiana/Indianapolis
BEGIN:DAYLIGHT
TZOFFSETFROM:-0500
TZOFFSETTO:-0400
TZNAME:EDT
DTSTART:20250309T070000
END:DAYLIGHT
BEGIN:STANDARD
TZOFFSETFROM:-0400
TZOFFSETTO:-0500
TZNAME:EST
DTSTART:20251102T060000
END:STANDARD
BEGIN:DAYLIGHT
TZOFFSETFROM:-0500
TZOFFSETTO:-0400
TZNAME:EDT
DTSTART:20260308T070000
END:DAYLIGHT
BEGIN:STANDARD
TZOFFSETFROM:-0400
TZOFFSETTO:-0500
TZNAME:EST
DTSTART:20261101T060000
END:STANDARD
BEGIN:DAYLIGHT
TZOFFSETFROM:-0500
TZOFFSETTO:-0400
TZNAME:EDT
DTSTART:20270314T070000
END:DAYLIGHT
BEGIN:STANDARD
TZOFFSETFROM:-0400
TZOFFSETTO:-0500
TZNAME:EST
DTSTART:20271107T060000
END:STANDARD
END:VTIMEZONE
BEGIN:VEVENT
DTSTART;VALUE=DATE:20260514
DTEND;VALUE=DATE:20260515
DTSTAMP:20260424T235339
CREATED:20251214T165313Z
LAST-MODIFIED:20251219T040614Z
UID:10000069-1778716800-1778803199@www.teamwwf.org
SUMMARY:FR Americas Test Day at Road America
DESCRIPTION:« All Events\n \n\n\n			\n\n\n	\n		SCCA Super Tour	\n\n			\n		DD\n			days\n		HH\n			hours\n		MM\n			mins\n	 \n\n	Hooray! \n\n	FR Americas Test Day at Road America\n			May 14\n	 \n\n	Tags:\n		\n	2026\,\n\n	FR Americas\,\n\n	Havok Motorsport \n\n			\n			Havoc Motorsport			\n	\n\n	Phone:\n\n					\n						\n	 \n\n	Website:\nView Organizer Website \n\n	Email:\n\n					\n						\n	 \n\n			\n		Road America			\n	\n\n	Address:\n\nN7390 Hwy 67\n		\n		Plymouth\,\n	WI\n	53073\n	United States\n\n\n	+ Google Map \n\n	Phone:\n\n					\n			(800) 365-7223			\n	 \n\n	Website:\n\n	View Venue Website \n	\n\n	\n	Add to calendar	\n		\n	\n \n\n\n	Google Calendar\n\n\n	iCalendar\n\n\n	Outlook 365\n\n\n	Outlook Live\n\n\n\n\n\n\n				Indy 500 Practice	\n\n\n	\n		Fast Friday
URL:https://www.teamwwf.org/event/fr-americas-test-day-at-road-america/
LOCATION:Road America\, N7390 Hwy 67\, Plymouth\, WI\, 53073\, United States
ATTACH;FMTTYPE=image/png:https://www.teamwwf.org/wp-content/uploads/2023/10/Road_America_logo.svg.png
GEO:43.8054882;-87.991755
X-APPLE-STRUCTURED-LOCATION;VALUE=URI;X-ADDRESS=Road America N7390 Hwy 67 Plymouth WI 53073 United States;X-APPLE-RADIUS=500;X-TITLE=N7390 Hwy 67:geo:-87.991755,43.8054882
END:VEVENT
BEGIN:VEVENT
DTSTART;VALUE=DATE:20260606
DTEND;VALUE=DATE:20260609
DTSTAMP:20260424T235339
CREATED:20251214T170115Z
LAST-MODIFIED:20251219T040955Z
UID:10000070-1780704000-1780963199@www.teamwwf.org
SUMMARY:June Sprints at Road America
DESCRIPTION:« All Events\n \n\n\n			\n\n\n	\n		SCCA Super Tour	\n\n			\n		DD\n			days\n		HH\n			hours\n		MM\n			mins\n	 \n\n	Hooray! \n\n	June Sprints at Road America\n			June 6\n	  –\n	June 8\n	 \n\n	Categories:\n		SCCA	 \n\n	Tags:\n		\n	2026\,\n\n	Road America \n\n			\n			Havoc Motorsport			\n	\n\n	Phone:\n\n					\n						\n	 \n\n	Website:\nView Organizer Website \n\n	Email:\n\n					\n						\n	 \n\n			\n		Road America			\n	\n\n	Address:\n\nN7390 Hwy 67\n		\n		Plymouth\,\n	WI\n	53073\n	United States\n\n\n	+ Google Map \n\n	Phone:\n\n					\n			(800) 365-7223			\n	 \n\n	Website:\n\n	View Venue Website \n	\n\n	\n	Add to calendar	\n		\n	\n \n\n\n	Google Calendar\n\n\n	iCalendar\n\n\n	Outlook 365\n\n\n	Outlook Live\n\n\n\n\n\n\n				110th Indianapolis 500 Race Day	\n\n\n	\n		Brickyard Vintage Racing
URL:https://www.teamwwf.org/event/june-sprints-at-road-america/
LOCATION:Road America\, N7390 Hwy 67\, Plymouth\, WI\, 53073\, United States
CATEGORIES:SCCA
ATTACH;FMTTYPE=image/png:https://www.teamwwf.org/wp-content/uploads/2023/10/Road_America_logo.svg.png
GEO:43.8054882;-87.991755
X-APPLE-STRUCTURED-LOCATION;VALUE=URI;X-ADDRESS=Road America N7390 Hwy 67 Plymouth WI 53073 United States;X-APPLE-RADIUS=500;X-TITLE=N7390 Hwy 67:geo:-87.991755,43.8054882
END:VEVENT
BEGIN:VEVENT
DTSTART;VALUE=DATE:20260725
DTEND;VALUE=DATE:20260727
DTSTAMP:20260424T235339
CREATED:20251214T171857Z
LAST-MODIFIED:20251219T040813Z
UID:10000072-1784937600-1785110399@www.teamwwf.org
SUMMARY:SCCA Major at Road America
DESCRIPTION:« All Events\n \n\n\n			\n\n\n	\n		SCCA Super Tour	\n\n			\n		DD\n			days\n		HH\n			hours\n		MM\n			mins\n	 \n\n	Hooray! \n\n	SCCA Major at Road America\n			July 25\n	  –\n	July 26\n	 \n\n	Categories:\n		SCCA	 \n\n	Tags:\n		\n	2026\,\n\n	Havok Motorsport\,\n\n	Road America\,\n\n	SCCA \n\n			\n			Havoc Motorsport			\n	\n\n	Phone:\n\n					\n						\n	 \n\n	Website:\nView Organizer Website \n\n	Email:\n\n					\n						\n	 \n\n			\n		Road America			\n	\n\n	Address:\n\nN7390 Hwy 67\n		\n		Plymouth\,\n	WI\n	53073\n	United States\n\n\n	+ Google Map \n\n	Phone:\n\n					\n			(800) 365-7223			\n	 \n\n	Website:\n\n	View Venue Website \n	\n\n	\n	Add to calendar	\n		\n	\n \n\n\n	Google Calendar\n\n\n	iCalendar\n\n\n	Outlook 365\n\n\n	Outlook Live\n\n\n\n\n\n\n				Brickyard Vintage Racing	\n\n\n	\n		NASCAR Pennzoil 250
URL:https://www.teamwwf.org/event/scca-major-at-road-america/
LOCATION:Road America\, N7390 Hwy 67\, Plymouth\, WI\, 53073\, United States
CATEGORIES:SCCA
ATTACH;FMTTYPE=image/png:https://www.teamwwf.org/wp-content/uploads/2023/10/Road_America_logo.svg.png
GEO:43.8054882;-87.991755
X-APPLE-STRUCTURED-LOCATION;VALUE=URI;X-ADDRESS=Road America N7390 Hwy 67 Plymouth WI 53073 United States;X-APPLE-RADIUS=500;X-TITLE=N7390 Hwy 67:geo:-87.991755,43.8054882
END:VEVENT
BEGIN:VEVENT
DTSTART;VALUE=DATE:20260928
DTEND;VALUE=DATE:20261005
DTSTAMP:20260424T235339
CREATED:20251214T173124Z
LAST-MODIFIED:20251219T040439Z
UID:10000074-1790553600-1791158399@www.teamwwf.org
SUMMARY:SCCA National Runoffs at Road America
DESCRIPTION:« All Events\n \n\n\n			\n\n\n	\n		SCCA Super Tour	\n\n			\n		DD\n			days\n		HH\n			hours\n		MM\n			mins\n	 \n\n	Hooray! \n\n	SCCA National Runoffs at Road America\n			September 28\n	  –\n	October 4\n	 \n\n	Categories:\n		SCCA	 \n\n	Tags:\n		\n	2026\,\n\n	Road America\,\n\n	SCCA \n\n			\n			Havoc Motorsport			\n	\n\n	Phone:\n\n					\n			815.476.4180			\n	 \n\n	Website:\nView Organizer Website \n\n	Email:\n\n					\n						\n	 \n\n			\n		Road America			\n	\n\n	Address:\n\nN7390 Hwy 67\n		\n		Plymouth\,\n	WI\n	53073\n	United States\n\n\n	+ Google Map \n\n	Phone:\n\n					\n			(800) 365-7223			\n	 \n\n	Website:\n\n	View Venue Website \n	\n\n	\n	Add to calendar	\n		\n	\n \n\n\n	Google Calendar\n\n\n	iCalendar\n\n\n	Outlook 365\n\n\n	Outlook Live\n\n\n\n\n\n\n				IMSA Battle on the Bricks	\n\n\n	\n		Indianapolis 8 Hour
URL:https://www.teamwwf.org/event/scca-national-runoffs-at-road-america/
LOCATION:Road America\, N7390 Hwy 67\, Plymouth\, WI\, 53073\, United States
CATEGORIES:SCCA
ATTACH;FMTTYPE=image/png:https://www.teamwwf.org/wp-content/uploads/2023/10/Road_America_logo.svg.png
GEO:43.8054882;-87.991755
X-APPLE-STRUCTURED-LOCATION;VALUE=URI;X-ADDRESS=Road America N7390 Hwy 67 Plymouth WI 53073 United States;X-APPLE-RADIUS=500;X-TITLE=N7390 Hwy 67:geo:-87.991755,43.8054882
END:VEVENT
END:VCALENDAR