BEGIN:VCALENDAR
VERSION:2.0
PRODID:-//TeamWWF - ECPv6.15.20//NONSGML v1.0//EN
CALSCALE:GREGORIAN
METHOD:PUBLISH
X-WR-CALNAME:TeamWWF
X-ORIGINAL-URL:https://www.teamwwf.org
X-WR-CALDESC:Events for TeamWWF
REFRESH-INTERVAL;VALUE=DURATION:PT1H
X-Robots-Tag:noindex
X-PUBLISHED-TTL:PT1H
BEGIN:VTIMEZONE
TZID:America/Indiana/Indianapolis
BEGIN:DAYLIGHT
TZOFFSETFROM:-0500
TZOFFSETTO:-0400
TZNAME:EDT
DTSTART:20250309T070000
END:DAYLIGHT
BEGIN:STANDARD
TZOFFSETFROM:-0400
TZOFFSETTO:-0500
TZNAME:EST
DTSTART:20251102T060000
END:STANDARD
BEGIN:DAYLIGHT
TZOFFSETFROM:-0500
TZOFFSETTO:-0400
TZNAME:EDT
DTSTART:20260308T070000
END:DAYLIGHT
BEGIN:STANDARD
TZOFFSETFROM:-0400
TZOFFSETTO:-0500
TZNAME:EST
DTSTART:20261101T060000
END:STANDARD
BEGIN:DAYLIGHT
TZOFFSETFROM:-0500
TZOFFSETTO:-0400
TZNAME:EDT
DTSTART:20270314T070000
END:DAYLIGHT
BEGIN:STANDARD
TZOFFSETFROM:-0400
TZOFFSETTO:-0500
TZNAME:EST
DTSTART:20271107T060000
END:STANDARD
END:VTIMEZONE
BEGIN:VEVENT
DTSTART;VALUE=DATE:20260508
DTEND;VALUE=DATE:20260509
DTSTAMP:20260424T220759
CREATED:20251104T153410Z
LAST-MODIFIED:20251126T024858Z
UID:10000052-1778198400-1778284799@www.teamwwf.org
SUMMARY:Sonsio Grand Prix Practice & Qualifying
DESCRIPTION:« All Events\n \n\n\n			\n\n\n	\n		Sonsio Grand Prix Practice & Qualifying	\n\n			\n		DD\n			days\n		HH\n			hours\n		MM\n			mins\n	 \n\n	Hooray! \n\n	Sonsio Grand Prix Practice & Qualifying\n			May 8\n	\n																\n															 \nTurn 2 VIP Suite Tickets Available for This Event\n																														 \n\n	Tags:\n		\n	2026\,\n\n	Indianapolis Motor Speedway\,\n\n	Turn 2 Suite \n\n			\n		Indianapolis Motor Speedway			\n	\n\n	Address:\n\n4790 W 16th St\, Indianapolis\, IN 46222\n		\n		Indianapolis\,\n	United States\n\n\n	+ Google Map \n\n	Phone:\n\n					\n						\n	 \n\n	Website:\n\n	View Venue Website \n	 \n\n			\n		Turn 2 Suite			\n	\n\n	Address:\n\n4790 West 16th Street\n		\n		Indianapolis\,\n	IN\n	46222\n	United States\n\n\n	+ Google Map \n\n	Phone:\n\n					\n						\n	 \n\n	Website:\n\n	View Venue Website \n	\n\n	\n	Add to calendar	\n		\n	\n \n\n\n	Google Calendar\n\n\n	iCalendar\n\n\n	Outlook 365\n\n\n	Outlook Live\n\n\n\n\n\n\n				Indy NXT Test	\n\n\n	\n		Sonsio Grand Prix Race Day
URL:https://www.teamwwf.org/event/sonsio-grand-prix/
LOCATION:Indianapolis Motor Speedway\, 4790 W 16th St.\, Indianapolis\, IN\, 46222\, United States
ATTACH;FMTTYPE=image/jpeg:https://www.teamwwf.org/wp-content/uploads/2025/11/Sonsio-Grand-Prix-logo.jpg
GEO:39.7881197;-86.2386635
X-APPLE-STRUCTURED-LOCATION;VALUE=URI;X-ADDRESS=Indianapolis Motor Speedway 4790 W 16th St. Indianapolis IN 46222 United States;X-APPLE-RADIUS=500;X-TITLE=4790 W 16th St.:geo:-86.2386635,39.7881197
END:VEVENT
BEGIN:VEVENT
DTSTART;VALUE=DATE:20260509
DTEND;VALUE=DATE:20260510
DTSTAMP:20260424T220759
CREATED:20251108T031852Z
LAST-MODIFIED:20251219T040541Z
UID:10000062-1778284800-1778371199@www.teamwwf.org
SUMMARY:Sonsio Grand Prix Race Day
DESCRIPTION:« All Events\n \n\n\n			\n\n\n	\n		Sonsio Grand Prix Practice & Qualifying	\n\n			\n		DD\n			days\n		HH\n			hours\n		MM\n			mins\n	 \n\n	Hooray! \n\n	Sonsio Grand Prix Race Day\n			May 9\n	\n																\n															 \nTurn 2 VIP Suite Tickets Available for This Event\n																														 \n\n	Tags:\n		\n	2026\,\n\n	Indianapolis Motor Speedway\,\n\n	Turn 2 Suite \n\n			\n		Indianapolis Motor Speedway			\n	\n\n	Address:\n\n4790 W 16th St\, Indianapolis\, IN 46222\n		\n		Indianapolis\,\n	United States\n\n\n	+ Google Map \n\n	Phone:\n\n					\n						\n	 \n\n	Website:\n\n	View Venue Website \n	 \n\n			\n		Turn 2 Suite			\n	\n\n	Address:\n\n4790 West 16th Street\n		\n		Indianapolis\,\n	IN\n	46222\n	United States\n\n\n	+ Google Map \n\n	Phone:\n\n					\n						\n	 \n\n	Website:\n\n	View Venue Website \n	\n\n	\n	Add to calendar	\n		\n	\n \n\n\n	Google Calendar\n\n\n	iCalendar\n\n\n	Outlook 365\n\n\n	Outlook Live\n\n\n\n\n\n\n				Sonsio Grand Prix Practice & Qualifying	\n\n\n	\n		Indy 500 Practice
URL:https://www.teamwwf.org/event/sonsio-grand-prix-race-day/
LOCATION:Indianapolis Motor Speedway\, 4790 W 16th St.\, Indianapolis\, IN\, 46222\, United States
ATTACH;FMTTYPE=image/jpeg:https://www.teamwwf.org/wp-content/uploads/2025/11/Sonsio-Grand-Prix-logo.jpg
GEO:39.7881197;-86.2386635
X-APPLE-STRUCTURED-LOCATION;VALUE=URI;X-ADDRESS=Indianapolis Motor Speedway 4790 W 16th St. Indianapolis IN 46222 United States;X-APPLE-RADIUS=500;X-TITLE=4790 W 16th St.:geo:-86.2386635,39.7881197
END:VEVENT
BEGIN:VEVENT
DTSTART;VALUE=DATE:20260512
DTEND;VALUE=DATE:20260516
DTSTAMP:20260424T220759
CREATED:20251108T062807Z
LAST-MODIFIED:20251219T040558Z
UID:10000064-1778544000-1778889599@www.teamwwf.org
SUMMARY:Indy 500 Practice
DESCRIPTION:« All Events\n \n\n\n			\n\n\n	\n		Sonsio Grand Prix Practice & Qualifying	\n\n			\n		DD\n			days\n		HH\n			hours\n		MM\n			mins\n	 \n\n	Hooray! \n\n	Indy 500 Practice\n			May 12\n	  –\n	May 15 \n\n$100.00 \n	\n																\n															 \nTurn 2 VIP Suite Tickets Available for This Event\n																														 \n\n	Tags:\n		\n	2026\,\n\n	Indianapolis Motor Speedway\,\n\n	Turn 2 Suite \n\n			\n			Wings And Wheels Foudation			\n	\n\n	Phone:\n\n					\n						\n	 \n\n	Website:\nView Organizer Website \n\n	Email:\n\n					\n			director@teamWWF.com			\n	 \n\n			\n		Indianapolis Motor Speedway			\n	\n\n	Address:\n\n4790 W 16th St\, Indianapolis\, IN 46222\n		\n		Indianapolis\,\n	United States\n\n\n	+ Google Map \n\n	Phone:\n\n					\n						\n	 \n\n	Website:\n\n	View Venue Website \n	 \n\n			\n		Turn 2 Suite			\n	\n\n	Address:\n\n4790 West 16th Street\n		\n		Indianapolis\,\n	IN\n	46222\n	United States\n\n\n	+ Google Map \n\n	Phone:\n\n					\n						\n	 \n\n	Website:\n\n	View Venue Website \n	\n\n	\n	Add to calendar	\n		\n	\n \n\n\n	Google Calendar\n\n\n	iCalendar\n\n\n	Outlook 365\n\n\n	Outlook Live\n\n\n\n\n\n\n				Sonsio Grand Prix Race Day	\n\n\n	\n		Fast Friday
URL:https://www.teamwwf.org/event/indy-500-practice/
LOCATION:Indianapolis Motor Speedway\, 4790 W 16th St.\, Indianapolis\, IN\, 46222\, United States
ATTACH;FMTTYPE=image/jpeg:https://www.teamwwf.org/wp-content/uploads/2025/11/110th-INDY-500-logo.jpg
ORGANIZER;CN="Wings And Wheels Foudation":MAILTO:director@teamWWF.com
GEO:39.7881197;-86.2386635
X-APPLE-STRUCTURED-LOCATION;VALUE=URI;X-ADDRESS=Indianapolis Motor Speedway 4790 W 16th St. Indianapolis IN 46222 United States;X-APPLE-RADIUS=500;X-TITLE=4790 W 16th St.:geo:-86.2386635,39.7881197
END:VEVENT
BEGIN:VEVENT
DTSTART;VALUE=DATE:20260515
DTEND;VALUE=DATE:20260516
DTSTAMP:20260424T220759
CREATED:20251108T033100Z
LAST-MODIFIED:20251219T040630Z
UID:10000063-1778803200-1778889599@www.teamwwf.org
SUMMARY:Fast Friday
DESCRIPTION:“Fast Friday” at the Indianapolis Motor Speedway (IMS) is the final full practice day before the Indianapolis 500 qualifying\, where teams and drivers push their cars to their maximum speed potential. The name originates from the surge of power and speed achieved as teams adjust their cars to mimic qualifying conditions\, enabling them to reach speeds exceeding 240 mph. It is a crucial day for teams to fine-tune their cars for qualifying and a popular event for fans to witness the high speeds and intense competition.		 \n\n	« All Events\n \n\n\n			\n\n\n	\n		Sonsio Grand Prix Practice & Qualifying	\n\n			\n		DD\n			days\n		HH\n			hours\n		MM\n			mins\n	 \n\n	Hooray! \n\n	Fast Friday\n			May 15\n	\n																\n															 \nTurn 2 VIP Suite Tickets Available for This Event\n																														 \n\n	Tags:\n		\n	2026\,\n\n	Indianapolis Motor Speedway\,\n\n	Turn 2 Suite \n\n			\n		Indianapolis Motor Speedway			\n	\n\n	Address:\n\n4790 W 16th St\, Indianapolis\, IN 46222\n		\n		Indianapolis\,\n	United States\n\n\n	+ Google Map \n\n	Phone:\n\n					\n						\n	 \n\n	Website:\n\n	View Venue Website \n	 \n\n			\n		Turn 2 Suite			\n	\n\n	Address:\n\n4790 West 16th Street\n		\n		Indianapolis\,\n	IN\n	46222\n	United States\n\n\n	+ Google Map \n\n	Phone:\n\n					\n						\n	 \n\n	Website:\n\n	View Venue Website \n	\n\n	\n	Add to calendar	\n		\n	\n \n\n\n	Google Calendar\n\n\n	iCalendar\n\n\n	Outlook 365\n\n\n	Outlook Live\n\n\n\n\n\n\n				Indy 500 Practice	\n\n\n	\n		Qualifying Weekend
URL:https://www.teamwwf.org/event/fast-friday/
LOCATION:Indianapolis Motor Speedway\, 4790 W 16th St.\, Indianapolis\, IN\, 46222\, United States
ATTACH;FMTTYPE=image/png:https://www.teamwwf.org/wp-content/uploads/2022/02/Wings-Wheels-Logo-Black-500.png
GEO:39.7881197;-86.2386635
X-APPLE-STRUCTURED-LOCATION;VALUE=URI;X-ADDRESS=Indianapolis Motor Speedway 4790 W 16th St. Indianapolis IN 46222 United States;X-APPLE-RADIUS=500;X-TITLE=4790 W 16th St.:geo:-86.2386635,39.7881197
END:VEVENT
BEGIN:VEVENT
DTSTART;VALUE=DATE:20260516
DTEND;VALUE=DATE:20260518
DTSTAMP:20260424T220759
CREATED:20251108T064317Z
LAST-MODIFIED:20251219T040644Z
UID:10000065-1778889600-1779062399@www.teamwwf.org
SUMMARY:Qualifying Weekend
DESCRIPTION:« All Events\n \n\n\n			\n\n\n	\n		Sonsio Grand Prix Practice & Qualifying	\n\n			\n		DD\n			days\n		HH\n			hours\n		MM\n			mins\n	 \n\n	Hooray! \n\n	Qualifying Weekend\n			May 16\n	  –\n	May 17\n	\n																\n															 \nTurn 2 VIP Suite Tickets Available for This Event\n																														 \n\n	Tags:\n		\n	2026\,\n\n	Turn 2 Suite \n\n			\n		Indianapolis Motor Speedway			\n	\n\n	Address:\n\n4790 W 16th St\, Indianapolis\, IN 46222\n		\n		Indianapolis\,\n	United States\n\n\n	+ Google Map \n\n	Phone:\n\n					\n						\n	 \n\n	Website:\n\n	View Venue Website \n	 \n\n			\n		Turn 2 Suite			\n	\n\n	Address:\n\n4790 West 16th Street\n		\n		Indianapolis\,\n	IN\n	46222\n	United States\n\n\n	+ Google Map \n\n	Phone:\n\n					\n						\n	 \n\n	Website:\n\n	View Venue Website \n	\n\n	\n	Add to calendar	\n		\n	\n \n\n\n	Google Calendar\n\n\n	iCalendar\n\n\n	Outlook 365\n\n\n	Outlook Live\n\n\n\n\n\n\n				Fast Friday	\n\n\n	\n		INDY 500 Practice
URL:https://www.teamwwf.org/event/qualifying-weekend/
LOCATION:Indianapolis Motor Speedway\, 4790 W 16th St.\, Indianapolis\, IN\, 46222\, United States
ATTACH;FMTTYPE=image/png:https://www.teamwwf.org/wp-content/uploads/2022/02/Wings-Wheels-Logo-Black-500.png
GEO:39.7881197;-86.2386635
X-APPLE-STRUCTURED-LOCATION;VALUE=URI;X-ADDRESS=Indianapolis Motor Speedway 4790 W 16th St. Indianapolis IN 46222 United States;X-APPLE-RADIUS=500;X-TITLE=4790 W 16th St.:geo:-86.2386635,39.7881197
END:VEVENT
BEGIN:VEVENT
DTSTART;VALUE=DATE:20260518
DTEND;VALUE=DATE:20260519
DTSTAMP:20260424T220759
CREATED:20251108T065137Z
LAST-MODIFIED:20251219T040659Z
UID:10000066-1779062400-1779148799@www.teamwwf.org
SUMMARY:INDY 500 Practice
DESCRIPTION:« All Events\n \n\n\n			\n\n\n	\n		Sonsio Grand Prix Practice & Qualifying	\n\n			\n		DD\n			days\n		HH\n			hours\n		MM\n			mins\n	 \n\n	Hooray! \n\n	INDY 500 Practice\n			May 18\n	\n																\n															 \nTurn 2 VIP Suite Tickets Available for This Event\n																														 \n\n	Tags:\n		\n	2026\,\n\n	Indianapolis Motor Speedway \n\n			\n		Indianapolis Motor Speedway			\n	\n\n	Address:\n\n4790 W 16th St\, Indianapolis\, IN 46222\n		\n		Indianapolis\,\n	United States\n\n\n	+ Google Map \n\n	Phone:\n\n					\n						\n	 \n\n	Website:\n\n	View Venue Website \n	 \n\n			\n		Turn 2 Suite			\n	\n\n	Address:\n\n4790 West 16th Street\n		\n		Indianapolis\,\n	IN\n	46222\n	United States\n\n\n	+ Google Map \n\n	Phone:\n\n					\n						\n	 \n\n	Website:\n\n	View Venue Website \n	\n\n	\n	Add to calendar	\n		\n	\n \n\n\n	Google Calendar\n\n\n	iCalendar\n\n\n	Outlook 365\n\n\n	Outlook Live\n\n\n\n\n\n\n				Qualifying Weekend	\n\n\n	\n		Miller Light Carb Day
URL:https://www.teamwwf.org/event/indy-500-practice-2/
LOCATION:Indianapolis Motor Speedway\, 4790 W 16th St.\, Indianapolis\, IN\, 46222\, United States
ATTACH;FMTTYPE=image/png:https://www.teamwwf.org/wp-content/uploads/2022/02/Wings-Wheels-Logo-Black-500.png
GEO:39.7881197;-86.2386635
X-APPLE-STRUCTURED-LOCATION;VALUE=URI;X-ADDRESS=Indianapolis Motor Speedway 4790 W 16th St. Indianapolis IN 46222 United States;X-APPLE-RADIUS=500;X-TITLE=4790 W 16th St.:geo:-86.2386635,39.7881197
END:VEVENT
BEGIN:VEVENT
DTSTART;VALUE=DATE:20260522
DTEND;VALUE=DATE:20260523
DTSTAMP:20260424T220759
CREATED:20251105T053719Z
LAST-MODIFIED:20251219T040725Z
UID:10000054-1779408000-1779494399@www.teamwwf.org
SUMMARY:Miller Light Carb Day
DESCRIPTION:« All Events\n \n\n\n			\n\n\n	\n		Sonsio Grand Prix Practice & Qualifying	\n\n			\n		DD\n			days\n		HH\n			hours\n		MM\n			mins\n	 \n\n	Hooray! \n\n	Miller Light Carb Day\n			May 22\n	\n																\n															 \nTurn 2 VIP Suite Tickets Available for This Event\n																														 \n\n	Tags:\n		\n	2026\,\n\n	Indianapolis Motor Speedway\,\n\n	Turn 2 Suite \n\n			\n		Indianapolis Motor Speedway			\n	\n\n	Address:\n\n4790 W 16th St\, Indianapolis\, IN 46222\n		\n		Indianapolis\,\n	United States\n\n\n	+ Google Map \n\n	Phone:\n\n					\n						\n	 \n\n	Website:\n\n	View Venue Website \n	 \n\n			\n		Turn 2 Suite			\n	\n\n	Address:\n\n4790 West 16th Street\n		\n		Indianapolis\,\n	IN\n	46222\n	United States\n\n\n	+ Google Map \n\n	Phone:\n\n					\n						\n	 \n\n	Website:\n\n	View Venue Website \n	\n\n	\n	Add to calendar	\n		\n	\n \n\n\n	Google Calendar\n\n\n	iCalendar\n\n\n	Outlook 365\n\n\n	Outlook Live\n\n\n\n\n\n\n				INDY 500 Practice	\n\n\n	\n		Legends Day
URL:https://www.teamwwf.org/event/carb-day/
LOCATION:Indianapolis Motor Speedway\, 4790 W 16th St.\, Indianapolis\, IN\, 46222\, United States
ATTACH;FMTTYPE=image/jpeg:https://www.teamwwf.org/wp-content/uploads/2025/11/Miller-Lite-Carb-Day-Logo.jpg
GEO:39.7881197;-86.2386635
X-APPLE-STRUCTURED-LOCATION;VALUE=URI;X-ADDRESS=Indianapolis Motor Speedway 4790 W 16th St. Indianapolis IN 46222 United States;X-APPLE-RADIUS=500;X-TITLE=4790 W 16th St.:geo:-86.2386635,39.7881197
END:VEVENT
BEGIN:VEVENT
DTSTART;VALUE=DATE:20260523
DTEND;VALUE=DATE:20260524
DTSTAMP:20260424T220759
CREATED:20251105T054252Z
LAST-MODIFIED:20251219T040741Z
UID:10000055-1779494400-1779580799@www.teamwwf.org
SUMMARY:Legends Day
DESCRIPTION:« All Events\n \n\n\n			\n\n\n	\n		Sonsio Grand Prix Practice & Qualifying	\n\n			\n		DD\n			days\n		HH\n			hours\n		MM\n			mins\n	 \n\n	Hooray! \n\n	Legends Day\n			May 23\n	\n																\n															 \nTurn 2 VIP Suite Tickets Available for This Event\n																														 \n\n	Tags:\n		\n	2026\,\n\n	Indianapolis Motor Speedway\,\n\n	Turn 2 Suite \n\n			\n		Indianapolis Motor Speedway			\n	\n\n	Address:\n\n4790 W 16th St\, Indianapolis\, IN 46222\n		\n		Indianapolis\,\n	United States\n\n\n	+ Google Map \n\n	Phone:\n\n					\n						\n	 \n\n	Website:\n\n	View Venue Website \n	 \n\n			\n		Turn 2 Suite			\n	\n\n	Address:\n\n4790 West 16th Street\n		\n		Indianapolis\,\n	IN\n	46222\n	United States\n\n\n	+ Google Map \n\n	Phone:\n\n					\n						\n	 \n\n	Website:\n\n	View Venue Website \n	\n\n	\n	Add to calendar	\n		\n	\n \n\n\n	Google Calendar\n\n\n	iCalendar\n\n\n	Outlook 365\n\n\n	Outlook Live\n\n\n\n\n\n\n				Miller Light Carb Day	\n\n\n	\n		110th Indianapolis 500 Race Day
URL:https://www.teamwwf.org/event/legends-day/
LOCATION:Indianapolis Motor Speedway\, 4790 W 16th St.\, Indianapolis\, IN\, 46222\, United States
ATTACH;FMTTYPE=image/jpeg:https://www.teamwwf.org/wp-content/uploads/2025/11/Legends-Day-Races.jpg
GEO:39.7881197;-86.2386635
X-APPLE-STRUCTURED-LOCATION;VALUE=URI;X-ADDRESS=Indianapolis Motor Speedway 4790 W 16th St. Indianapolis IN 46222 United States;X-APPLE-RADIUS=500;X-TITLE=4790 W 16th St.:geo:-86.2386635,39.7881197
END:VEVENT
BEGIN:VEVENT
DTSTART;VALUE=DATE:20260524
DTEND;VALUE=DATE:20260525
DTSTAMP:20260424T220759
CREATED:20251105T183052Z
LAST-MODIFIED:20251219T041012Z
UID:10000056-1779580800-1779667199@www.teamwwf.org
SUMMARY:110th Indianapolis 500 Race Day
DESCRIPTION:« All Events\n \n\n\n			\n\n\n	\n		Sonsio Grand Prix Practice & Qualifying	\n\n			\n		DD\n			days\n		HH\n			hours\n		MM\n			mins\n	 \n\n	Hooray! \n\n	110th Indianapolis 500 Race Day\n			May 24\n	\n																\n															 \nTurn 2 VIP Suite Tickets Available for This Event\n																														 \n\n	Tags:\n		\n	2026\,\n\n	Indianapolis Motor Speedway\,\n\n	Turn 2 Suite \n\n			\n		Indianapolis Motor Speedway			\n	\n\n	Address:\n\n4790 W 16th St\, Indianapolis\, IN 46222\n		\n		Indianapolis\,\n	United States\n\n\n	+ Google Map \n\n	Phone:\n\n					\n						\n	 \n\n	Website:\n\n	View Venue Website \n	 \n\n			\n		Turn 2 Suite			\n	\n\n	Address:\n\n4790 West 16th Street\n		\n		Indianapolis\,\n	IN\n	46222\n	United States\n\n\n	+ Google Map \n\n	Phone:\n\n					\n						\n	 \n\n	Website:\n\n	View Venue Website \n	\n\n	\n	Add to calendar	\n		\n	\n \n\n\n	Google Calendar\n\n\n	iCalendar\n\n\n	Outlook 365\n\n\n	Outlook Live\n\n\n\n\n\n\n				Legends Day	\n\n\n	\n		Brickyard Vintage Racing
URL:https://www.teamwwf.org/event/110th-indianapolis-500/
LOCATION:Indianapolis Motor Speedway\, 4790 W 16th St.\, Indianapolis\, IN\, 46222\, United States
ATTACH;FMTTYPE=image/jpeg:https://www.teamwwf.org/wp-content/uploads/2025/11/110th-INDY-500-logo.jpg
GEO:39.7881197;-86.2386635
X-APPLE-STRUCTURED-LOCATION;VALUE=URI;X-ADDRESS=Indianapolis Motor Speedway 4790 W 16th St. Indianapolis IN 46222 United States;X-APPLE-RADIUS=500;X-TITLE=4790 W 16th St.:geo:-86.2386635,39.7881197
END:VEVENT
BEGIN:VEVENT
DTSTART;VALUE=DATE:20260620
DTEND;VALUE=DATE:20260622
DTSTAMP:20260424T220759
CREATED:20251105T183703Z
LAST-MODIFIED:20251219T040941Z
UID:10000057-1781913600-1782086399@www.teamwwf.org
SUMMARY:Brickyard Vintage Racing
DESCRIPTION:« All Events\n \n\n\n			\n\n\n	\n		Sonsio Grand Prix Practice & Qualifying	\n\n			\n		DD\n			days\n		HH\n			hours\n		MM\n			mins\n	 \n\n	Hooray! \n\n	Brickyard Vintage Racing\n			June 20\n	  –\n	June 21\n	\n																\n															 \nTurn 2 VIP Suite Tickets Available for This Event\n\n	Tags:\n		\n	2026\,\n\n	Indianapolis Motor Speedway\,\n\n	Turn \n\n			\n		Indianapolis Motor Speedway			\n	\n\n	Address:\n\n4790 W 16th St\, Indianapolis\, IN 46222\n		\n		Indianapolis\,\n	United States\n\n\n	+ Google Map \n\n	Phone:\n\n					\n						\n	 \n\n	Website:\n\n	View Venue Website \n	 \n\n			\n		Turn 2 Suite			\n	\n\n	Address:\n\n4790 West 16th Street\n		\n		Indianapolis\,\n	IN\n	46222\n	United States\n\n\n	+ Google Map \n\n	Phone:\n\n					\n						\n	 \n\n	Website:\n\n	View Venue Website \n	\n\n	\n	Add to calendar	\n		\n	\n \n\n\n	Google Calendar\n\n\n	iCalendar\n\n\n	Outlook 365\n\n\n	Outlook Live\n\n\n\n\n\n\n				110th Indianapolis 500 Race Day	\n\n\n	\n		NASCAR Brickyard 400
URL:https://www.teamwwf.org/event/brickyard-vintage-racing/
LOCATION:Indianapolis Motor Speedway\, 4790 W 16th St.\, Indianapolis\, IN\, 46222\, United States
ATTACH;FMTTYPE=image/jpeg:https://www.teamwwf.org/wp-content/uploads/2025/11/Brickyard-Vintage-Racing-logo.jpg
GEO:39.7881197;-86.2386635
X-APPLE-STRUCTURED-LOCATION;VALUE=URI;X-ADDRESS=Indianapolis Motor Speedway 4790 W 16th St. Indianapolis IN 46222 United States;X-APPLE-RADIUS=500;X-TITLE=4790 W 16th St.:geo:-86.2386635,39.7881197
END:VEVENT
BEGIN:VEVENT
DTSTART;VALUE=DATE:20260725
DTEND;VALUE=DATE:20260726
DTSTAMP:20260424T220759
CREATED:20251105T192925Z
LAST-MODIFIED:20251219T040925Z
UID:10000059-1784937600-1785023999@www.teamwwf.org
SUMMARY:NASCAR Brickyard 400
DESCRIPTION:« All Events\n \n\n\n			\n\n\n	\n		Sonsio Grand Prix Practice & Qualifying	\n\n			\n		DD\n			days\n		HH\n			hours\n		MM\n			mins\n	 \n\n	Hooray! \n\n	NASCAR Brickyard 400\n			July 25\n	 \n\n	Categories:\n		NASCAR	 \n\n	Tags:\n		\n	2026\,\n\n	Indianapolis Motor Speedway\,\n\n	Turn 2 Suite \n\n			\n		Indianapolis Motor Speedway			\n	\n\n	Address:\n\n4790 W 16th St\, Indianapolis\, IN 46222\n		\n		Indianapolis\,\n	United States\n\n\n	+ Google Map \n\n	Phone:\n\n					\n						\n	 \n\n	Website:\n\n	View Venue Website \n	 \n\n			\n		Turn 2 Suite			\n	\n\n	Address:\n\n4790 West 16th Street\n		\n		Indianapolis\,\n	IN\n	46222\n	United States\n\n\n	+ Google Map \n\n	Phone:\n\n					\n						\n	 \n\n	Website:\n\n	View Venue Website \n	\n\n	\n	Add to calendar	\n		\n	\n \n\n\n	Google Calendar\n\n\n	iCalendar\n\n\n	Outlook 365\n\n\n	Outlook Live\n\n\n\n\n\n\n				Brickyard Vintage Racing	\n\n\n	\n		NASCAR Pennzoil 250
URL:https://www.teamwwf.org/event/nascar-brickyard-400/
LOCATION:Indianapolis Motor Speedway\, 4790 W 16th St.\, Indianapolis\, IN\, 46222\, United States
CATEGORIES:NASCAR
ATTACH;FMTTYPE=image/jpeg:https://www.teamwwf.org/wp-content/uploads/2025/11/Brickyard-400-Logo.jpg
GEO:39.7881197;-86.2386635
X-APPLE-STRUCTURED-LOCATION;VALUE=URI;X-ADDRESS=Indianapolis Motor Speedway 4790 W 16th St. Indianapolis IN 46222 United States;X-APPLE-RADIUS=500;X-TITLE=4790 W 16th St.:geo:-86.2386635,39.7881197
END:VEVENT
BEGIN:VEVENT
DTSTART;TZID=America/Indiana/Indianapolis:20260725T080000
DTEND;TZID=America/Indiana/Indianapolis:20260725T170000
DTSTAMP:20260424T220759
CREATED:20251105T190344Z
LAST-MODIFIED:20251219T040831Z
UID:10000058-1784966400-1784998800@www.teamwwf.org
SUMMARY:NASCAR Pennzoil 250
DESCRIPTION:« All Events\n \n\n\n			\n\n\n	\n		Sonsio Grand Prix Practice & Qualifying	\n\n			\n		DD\n			days\n		HH\n			hours\n		MM\n			mins\n	 \n\n	Hooray! \n\n	NASCAR Pennzoil 250\n			July 25\n	  @\n8:00 AM\n	  –\n5:00 PM\n	\n																\n															 \n\n	Categories:\n		NASCAR	 \n\n	Tags:\n		\n	2026\,\n\n	Indianapolis Motor Speedway\,\n\n	Turn 2 Suite \n\n			\n		Indianapolis Motor Speedway			\n	\n\n	Address:\n\n4790 W 16th St\, Indianapolis\, IN 46222\n		\n		Indianapolis\,\n	United States\n\n\n	+ Google Map \n\n	Phone:\n\n					\n						\n	 \n\n	Website:\n\n	View Venue Website \n	 \n\n			\n		Turn 2 Suite			\n	\n\n	Address:\n\n4790 West 16th Street\n		\n		Indianapolis\,\n	IN\n	46222\n	United States\n\n\n	+ Google Map \n\n	Phone:\n\n					\n						\n	 \n\n	Website:\n\n	View Venue Website \n	\n\n	\n	Add to calendar	\n		\n	\n \n\n\n	Google Calendar\n\n\n	iCalendar\n\n\n	Outlook 365\n\n\n	Outlook Live\n\n\n\n\n\n\n				NASCAR Brickyard 400	\n\n\n	\n		IMSA Battle on the Bricks
URL:https://www.teamwwf.org/event/nascar-pennzoil-250/
LOCATION:Indianapolis Motor Speedway\, 4790 W 16th St.\, Indianapolis\, IN\, 46222\, United States
CATEGORIES:NASCAR
ATTACH;FMTTYPE=image/jpeg:https://www.teamwwf.org/wp-content/uploads/2025/11/Pennzoil-250-2026-Logo.jpg
GEO:39.7881197;-86.2386635
X-APPLE-STRUCTURED-LOCATION;VALUE=URI;X-ADDRESS=Indianapolis Motor Speedway 4790 W 16th St. Indianapolis IN 46222 United States;X-APPLE-RADIUS=500;X-TITLE=4790 W 16th St.:geo:-86.2386635,39.7881197
END:VEVENT
BEGIN:VEVENT
DTSTART;VALUE=DATE:20260918
DTEND;VALUE=DATE:20260921
DTSTAMP:20260424T220759
CREATED:20251105T193501Z
LAST-MODIFIED:20251219T040903Z
UID:10000060-1789689600-1789948799@www.teamwwf.org
SUMMARY:IMSA Battle on the Bricks
DESCRIPTION:« All Events\n \n\n\n			\n\n\n	\n		Sonsio Grand Prix Practice & Qualifying	\n\n			\n		DD\n			days\n		HH\n			hours\n		MM\n			mins\n	 \n\n	Hooray! \n\n	IMSA Battle on the Bricks\n			September 18\n	  –\n	September 20\n	\n																														 \n\n	Categories:\n		Battle of the Bricks	 \n\n	Tags:\n		\n	2026\,\n\n	Indianapolis Motor Speedway\,\n\n	Turn 2 Suite \n\n			\n		Indianapolis Motor Speedway			\n	\n\n	Address:\n\n4790 W 16th St\, Indianapolis\, IN 46222\n		\n		Indianapolis\,\n	United States\n\n\n	+ Google Map \n\n	Phone:\n\n					\n						\n	 \n\n	Website:\n\n	View Venue Website \n	 \n\n			\n		Turn 2 Suite			\n	\n\n	Address:\n\n4790 West 16th Street\n		\n		Indianapolis\,\n	IN\n	46222\n	United States\n\n\n	+ Google Map \n\n	Phone:\n\n					\n						\n	 \n\n	Website:\n\n	View Venue Website \n	\n\n	\n	Add to calendar	\n		\n	\n \n\n\n	Google Calendar\n\n\n	iCalendar\n\n\n	Outlook 365\n\n\n	Outlook Live\n\n\n\n\n\n\n				NASCAR Pennzoil 250	\n\n\n	\n		Indianapolis 8 Hour
URL:https://www.teamwwf.org/event/imsa-battle-on-the-bricks/
LOCATION:Indianapolis Motor Speedway\, 4790 W 16th St.\, Indianapolis\, IN\, 46222\, United States
CATEGORIES:Battle of the Bricks
ATTACH;FMTTYPE=image/jpeg:https://www.teamwwf.org/wp-content/uploads/2025/11/Battle-on-the-Bricks-logo.jpg
GEO:39.7881197;-86.2386635
X-APPLE-STRUCTURED-LOCATION;VALUE=URI;X-ADDRESS=Indianapolis Motor Speedway 4790 W 16th St. Indianapolis IN 46222 United States;X-APPLE-RADIUS=500;X-TITLE=4790 W 16th St.:geo:-86.2386635,39.7881197
END:VEVENT
BEGIN:VEVENT
DTSTART;VALUE=DATE:20261009
DTEND;VALUE=DATE:20261012
DTSTAMP:20260424T220759
CREATED:20251105T200458Z
LAST-MODIFIED:20251219T040522Z
UID:10000061-1791504000-1791763199@www.teamwwf.org
SUMMARY:Indianapolis 8 Hour
DESCRIPTION:« All Events\n \n\n\n			\n\n\n	\n		Sonsio Grand Prix Practice & Qualifying	\n\n			\n		DD\n			days\n		HH\n			hours\n		MM\n			mins\n	 \n\n	Hooray! \n\n	Indianapolis 8 Hour\n			October 9\n	  –\n	October 11\n	\n																\n															 \n\n	Tags:\n		\n	2026\,\n\n	Indianapolis Motor Speedway\,\n\n	Turn 2 Suite \n\n			\n		Indianapolis Motor Speedway			\n	\n\n	Address:\n\n4790 W 16th St\, Indianapolis\, IN 46222\n		\n		Indianapolis\,\n	United States\n\n\n	+ Google Map \n\n	Phone:\n\n					\n						\n	 \n\n	Website:\n\n	View Venue Website \n	 \n\n			\n		Turn 2 Suite			\n	\n\n	Address:\n\n4790 West 16th Street\n		\n		Indianapolis\,\n	IN\n	46222\n	United States\n\n\n	+ Google Map \n\n	Phone:\n\n					\n						\n	 \n\n	Website:\n\n	View Venue Website \n	\n\n	\n	Add to calendar	\n		\n	\n \n\n\n	Google Calendar\n\n\n	iCalendar\n\n\n	Outlook 365\n\n\n	Outlook Live\n\n\n\n\n\n\n				IMSA Battle on the Bricks
URL:https://www.teamwwf.org/event/indianapolis-8-hour-2/
LOCATION:Indianapolis Motor Speedway\, 4790 W 16th St.\, Indianapolis\, IN\, 46222\, United States
ATTACH;FMTTYPE=image/jpeg:https://www.teamwwf.org/wp-content/uploads/2025/11/Indianapolis-8-Hour-Logo.jpg
GEO:39.7881197;-86.2386635
X-APPLE-STRUCTURED-LOCATION;VALUE=URI;X-ADDRESS=Indianapolis Motor Speedway 4790 W 16th St. Indianapolis IN 46222 United States;X-APPLE-RADIUS=500;X-TITLE=4790 W 16th St.:geo:-86.2386635,39.7881197
END:VEVENT
END:VCALENDAR