BEGIN:VCALENDAR
VERSION:2.0
PRODID:-//TeamWWF - ECPv6.15.20//NONSGML v1.0//EN
CALSCALE:GREGORIAN
METHOD:PUBLISH
X-WR-CALNAME:TeamWWF
X-ORIGINAL-URL:https://www.teamwwf.org
X-WR-CALDESC:Events for TeamWWF
REFRESH-INTERVAL;VALUE=DURATION:PT1H
X-Robots-Tag:noindex
X-PUBLISHED-TTL:PT1H
BEGIN:VTIMEZONE
TZID:America/Indiana/Indianapolis
BEGIN:DAYLIGHT
TZOFFSETFROM:-0500
TZOFFSETTO:-0400
TZNAME:EDT
DTSTART:20230312T070000
END:DAYLIGHT
BEGIN:STANDARD
TZOFFSETFROM:-0400
TZOFFSETTO:-0500
TZNAME:EST
DTSTART:20231105T060000
END:STANDARD
BEGIN:DAYLIGHT
TZOFFSETFROM:-0500
TZOFFSETTO:-0400
TZNAME:EDT
DTSTART:20240310T070000
END:DAYLIGHT
BEGIN:STANDARD
TZOFFSETFROM:-0400
TZOFFSETTO:-0500
TZNAME:EST
DTSTART:20241103T060000
END:STANDARD
BEGIN:DAYLIGHT
TZOFFSETFROM:-0500
TZOFFSETTO:-0400
TZNAME:EDT
DTSTART:20250309T070000
END:DAYLIGHT
BEGIN:STANDARD
TZOFFSETFROM:-0400
TZOFFSETTO:-0500
TZNAME:EST
DTSTART:20251102T060000
END:STANDARD
END:VTIMEZONE
BEGIN:VEVENT
DTSTART;VALUE=DATE:20240623
DTEND;VALUE=DATE:20240624
DTSTAMP:20260425T080041
CREATED:20231002T213536Z
LAST-MODIFIED:20250908T204443Z
UID:10000013-1719100800-1719187199@www.teamwwf.org
SUMMARY:WeatherTech Raceway Laguna Seca
DESCRIPTION:WeatherTech Raceway Laguna Seca (previously known as Laguna Seca Raceway) is a paved road racing track used for auto and motorcycle racing\, originally constructed in 1957 near Salinas and Monterey\, California\, USA. The current racetrack is 2.238 miles (3.602 km) in length with a 300-foot (91 m) elevation change. It has eleven turns\, including the famous “Corkscrew” at Turns eight and 8A. A variety of racing\, exhibition\, and entertainment events are held at the raceway\, ranging from superkarts to American Le Mans racing to music festivals. The name was Laguna Seca\, which is Spanish for “dry lake.” The area where the track is was originally a lake. The course was originally built around the lake\, which has since dried up entirely. An artificial pond has since been added.		 \n\n	« All Events\n \nThis event has passed. \n\n	WeatherTech Raceway Laguna Seca\n			June 23\n	 \n\n	Categories:\n		INDYCAR	 \n\n	Tags:\n		\n	2024\,\n\n	INDYCAR \n\n	WeatherTech Raceway\n\n1021 Monterey Salinas Highway\n		\n		Salinas\,\n	CA\n	93908\n	United States\n\n\n	+ Google Map \n\n					\n			(831) 242-8201			\n	 \n\n	View Venue Website \n	\n\n	\n	Add to calendar	\n		\n	\n \n\n\n	Google Calendar\n\n\n	iCalendar\n\n\n	Outlook 365\n\n\n	Outlook Live\n\n\n\n\n\n\n				Road America	\n\n\n	\n		Mid-Ohio Sports Car Course
URL:https://www.teamwwf.org/event/weathertech-raceway-laguna-seca/
LOCATION:WeatherTech Raceway\, 1021 Monterey Salinas Highway\, Salinas\, CA\, 93908\, United States
CATEGORIES:INDYCAR
ATTACH;FMTTYPE=image/jpeg:https://www.teamwwf.org/wp-content/uploads/2023/10/WeatherTech-Raceway-LagunaLogo.jpg
GEO:36.585606;-121.755396
X-APPLE-STRUCTURED-LOCATION;VALUE=URI;X-ADDRESS=WeatherTech Raceway 1021 Monterey Salinas Highway Salinas CA 93908 United States;X-APPLE-RADIUS=500;X-TITLE=1021 Monterey Salinas Highway:geo:-121.755396,36.585606
END:VEVENT
BEGIN:VEVENT
DTSTART;VALUE=DATE:20240510
DTEND;VALUE=DATE:20240513
DTSTAMP:20260425T080041
CREATED:20231101T183908Z
LAST-MODIFIED:20231101T210401Z
UID:10000025-1715299200-1715558399@www.teamwwf.org
SUMMARY:WeatherTech Raceway Laguna Seca
DESCRIPTION:After taking the month of April off\, the Mazda MX-5 series travels across the country to Monterey\, California\, and WeatherTech Raceway Laguna Seca\, May 10 – 12. The beautiful circuit is the spiritual home of the series\, which debuted there in 2006.
URL:https://www.teamwwf.org/event/weathertech-raceway-laguna-seca-2/
LOCATION:WeatherTech Raceway\, 1021 Monterey Salinas Highway\, Salinas\, CA\, 93908\, United States
CATEGORIES:IMSA
ATTACH;FMTTYPE=image/jpeg:https://www.teamwwf.org/wp-content/uploads/2023/11/WeatherTech-Raceway.jpg
GEO:36.585606;-121.755396
X-APPLE-STRUCTURED-LOCATION;VALUE=URI;X-ADDRESS=WeatherTech Raceway 1021 Monterey Salinas Highway Salinas CA 93908 United States;X-APPLE-RADIUS=500;X-TITLE=1021 Monterey Salinas Highway:geo:-121.755396,36.585606
END:VEVENT
END:VCALENDAR